BEGIN:VCALENDAR
VERSION:2.0
PRODID:-//www.loftkoeln.de - ECPv5.14.2.1//NONSGML v1.0//EN
CALSCALE:GREGORIAN
METHOD:PUBLISH
X-WR-CALNAME:www.loftkoeln.de
X-ORIGINAL-URL:https://www.loftkoeln.de
X-WR-CALDESC:Veranstaltungen für www.loftkoeln.de
BEGIN:VTIMEZONE
TZID:UTC
BEGIN:STANDARD
TZOFFSETFROM:+0000
TZOFFSETTO:+0000
TZNAME:UTC
DTSTART:20130101T000000
END:STANDARD
END:VTIMEZONE
BEGIN:VEVENT
DTSTART;TZID=UTC:20130129T203000
DTEND;TZID=UTC:20130129T203000
DTSTAMP:20260424T122058
CREATED:20171010T124703Z
LAST-MODIFIED:20171010T124703Z
UID:5366-1359491400-1359491400@www.loftkoeln.de
SUMMARY:DUO: Robert Kusiolek -  Pawel Postaremczak
DESCRIPTION:Robert Kusiolek – akkord.\nPawel Postaremczak – ts \n\nRobert Kusiolek ist ein Akkordeonist und Komponist\, der den Anschluss zur internationalen Szene gefunden hat. Seine Musik ist zeitlos\, modern\, ohne Modernismen. Er hat die imposante Fähigkeit ad hoc eine Fülle von Interaktionsmustern\, Texturen und Stimmungen zu kreieren und beherrscht sein Instrument mit außergewöhnlicher Virtuosität.  Anfang 2011 hat Robert Kusiolek mit seinem Quartett die international erfolgreiche CD „NUNTIUM“ auf dem Label Multikulti Project veröffentlicht. \nPawel Postaremczak – ist in der jungen Generation der polnischen Szene zur Zeit der interessanteste Saxophonist. Charakteristisch für ihn ist ein außergewöhnlicher Stil voller Lyrik und Ekstase\, der die großen Meister des Saxophons wie John Coltrane oder Pharoah Sanders weiterleben lässt. \nKusiolek und Postaremczak sind gemeinsam ein faszinierender Klangkörper mit eigener Prägung. Mit ihrer außergewöhnlichen Instrumentierung erschaffen die zwei Musiker weiträumige Kompositionen\, imaginäre kammermusikalische Atmosphären und großflächige Klangstrukturen. Kusiolek und Postaremczak kreieren eine neuartig-zeitgenössische Musik mit transzendentaler Schönheit.
URL:https://www.loftkoeln.de/event/duo-robert-kusiolek-pawel-postaremczak/
END:VEVENT
END:VCALENDAR