BEGIN:VCALENDAR
VERSION:2.0
PRODID:-//www.loftkoeln.de - ECPv5.14.2.1//NONSGML v1.0//EN
CALSCALE:GREGORIAN
METHOD:PUBLISH
X-WR-CALNAME:www.loftkoeln.de
X-ORIGINAL-URL:https://www.loftkoeln.de
X-WR-CALDESC:Veranstaltungen für www.loftkoeln.de
BEGIN:VTIMEZONE
TZID:UTC
BEGIN:STANDARD
TZOFFSETFROM:+0000
TZOFFSETTO:+0000
TZNAME:UTC
DTSTART:20140101T000000
END:STANDARD
END:VTIMEZONE
BEGIN:VEVENT
DTSTART;TZID=UTC:20140131T203000
DTEND;TZID=UTC:20140131T203000
DTSTAMP:20260420T122813
CREATED:20170323T140303Z
LAST-MODIFIED:20170323T140303Z
UID:4498-1391200200-1391200200@www.loftkoeln.de
SUMMARY:DUO "LUBATOV"
DESCRIPTION:Simon Nabatov – piano\nGareth Lubbe – voice\, viola \n\nNach ihrem äußerst erfolgreichem Debüt beim Plush Music Festival treffen sich die Musiker des Duos »Lubatov« zu ihrem zweiten Konzert. Russische und südafrikanische Wurzeln treffen sich zu einem vielfältigen Dialog. Simon Nabatov\, bekannt für seine Fähigkeit\, die verschiedensten Musikwelten zu einem einzigen virtuosen Klang Kosmos zu verschmelzen und Gareth Lubbe\, der Stimmkünstler und Viola Spieler\, der gerade an der Folkwang Hochschule in Essen zum Professor für dieses Instrument berufen worden ist\, präsentieren eine Musik von komponierten und improvisierten Klangwelten voll von harmonischen Überraschungen.
URL:https://www.loftkoeln.de/event/duo-lubatov/
END:VEVENT
END:VCALENDAR