BEGIN:VCALENDAR
VERSION:2.0
PRODID:-//www.loftkoeln.de - ECPv5.14.2.1//NONSGML v1.0//EN
CALSCALE:GREGORIAN
METHOD:PUBLISH
X-WR-CALNAME:www.loftkoeln.de
X-ORIGINAL-URL:https://www.loftkoeln.de
X-WR-CALDESC:Veranstaltungen für www.loftkoeln.de
BEGIN:VTIMEZONE
TZID:UTC
BEGIN:STANDARD
TZOFFSETFROM:+0000
TZOFFSETTO:+0000
TZNAME:UTC
DTSTART:20130101T000000
END:STANDARD
END:VTIMEZONE
BEGIN:VEVENT
DTSTART;TZID=UTC:20130111T203000
DTEND;TZID=UTC:20130111T203000
DTSTAMP:20260423T184020
CREATED:20171010T131905Z
LAST-MODIFIED:20171010T131905Z
UID:5389-1357936200-1357936200@www.loftkoeln.de
SUMMARY:DUO LAIA GENC UND STEPHAN MATTNER -  DIE REDUKTION AUF DAS WESENTLICHE
DESCRIPTION:Laia Genc – piano\nStephan Mattner – saxophon \n\nWenn Stephan Mattners kraftvoller und zugleich lyrischer Ton auf dem Saxophon mit Laia Genc‘s fesselndem Spiel auf dem Piano zusammentrifft\, entstehen Berührungspunkte\, die über eine Verflechtung der Stimmen im klassischen Sinne hinausgehen. Die kreative Erweiterung ihrer Instrumente\, die sowohl konventionelle als auch verfremdete Spielweisen aufnehmen\, sind genauso charakteristisch für die beiden Musiker wie die flexiblen Phrasierungen\, die zwischen kraftvoller Expression und subtilem „Laid back-Spiel “changieren. So wird aus wechselseitigen Einwürfen eine Stimmung geschaffen\, deren Homogenität überzeugt und die vor allem durch die Gleichwertigkeit der Stimmen getragen wird.
URL:https://www.loftkoeln.de/event/duo-laia-genc-und-stephan-mattner-die-reduktion-auf-das-wesentliche/
END:VEVENT
END:VCALENDAR