BEGIN:VCALENDAR
VERSION:2.0
PRODID:-//www.loftkoeln.de - ECPv5.14.2.1//NONSGML v1.0//EN
CALSCALE:GREGORIAN
METHOD:PUBLISH
X-WR-CALNAME:www.loftkoeln.de
X-ORIGINAL-URL:https://www.loftkoeln.de
X-WR-CALDESC:Veranstaltungen für www.loftkoeln.de
BEGIN:VTIMEZONE
TZID:Europe/Berlin
BEGIN:DAYLIGHT
TZOFFSETFROM:+0100
TZOFFSETTO:+0200
TZNAME:CEST
DTSTART:19910331T010000
END:DAYLIGHT
BEGIN:STANDARD
TZOFFSETFROM:+0200
TZOFFSETTO:+0100
TZNAME:CET
DTSTART:19910929T010000
END:STANDARD
END:VTIMEZONE
BEGIN:VEVENT
DTSTART;TZID=Europe/Berlin:19910914T210000
DTEND;TZID=Europe/Berlin:19910914T210000
DTSTAMP:20260420T160832
CREATED:20250512T061738Z
LAST-MODIFIED:20250512T061738Z
UID:29954-684882000-684882000@www.loftkoeln.de
SUMMARY:Duo Frank Gratkowski & Paulo Álvares
DESCRIPTION:Frank Gratkowski – Saxophon\nPaulo Álvares – Piano \nDie beiden Preisträger in einem gemeinsamen Konzert\, dazu die Premiere der ersten LOFT CD.
URL:https://www.loftkoeln.de/event/duo-frank-gratkowski-paulo-alvares-2/
END:VEVENT
END:VCALENDAR