BEGIN:VCALENDAR
VERSION:2.0
PRODID:-//www.loftkoeln.de - ECPv5.14.2.1//NONSGML v1.0//EN
CALSCALE:GREGORIAN
METHOD:PUBLISH
X-WR-CALNAME:www.loftkoeln.de
X-ORIGINAL-URL:https://www.loftkoeln.de
X-WR-CALDESC:Veranstaltungen für www.loftkoeln.de
BEGIN:VTIMEZONE
TZID:UTC
BEGIN:STANDARD
TZOFFSETFROM:+0000
TZOFFSETTO:+0000
TZNAME:UTC
DTSTART:20070101T000000
END:STANDARD
END:VTIMEZONE
BEGIN:VEVENT
DTSTART;TZID=UTC:20070203T203000
DTEND;TZID=UTC:20070203T203000
DTSTAMP:20260422T180446
CREATED:20181223T080019Z
LAST-MODIFIED:20181223T080019Z
UID:10334-1170534600-1170534600@www.loftkoeln.de
SUMMARY:Duo Evan Parker - Urs Leimgruber
DESCRIPTION:Evan Parker – Tenor-\, Sopransaxophon\nUrs Leimgruber – Tenor-\, Sopransaxophon \n\nZwei Protagonisten der zeitgenössischen\, improvisierten Musik in Europa\, die Bedeutendes zur Entwicklung des Saxophons beigetragen haben\, treffen sich zum ersten Mal als Duo im Konzert.  \n Evan Parker ist ein Pionier der europäischen\, improvisierten Musik. Er hat einen eigenen\, unverkennbaren Saxophonstil entwickelt. Im Einbezug der Zirkularatmung\, der Flatterzunge\, rasenden Fingerläufen und optimaler Auslotung des Obertonbereichs ist es sein Bestreben\, den Bereich der verfügbaren Klangfarben zu erweitern und die offenkundige Virtuosität\, die für die Instrumentalbehandlung bestimmend ist\, mit einem anderen Spielansatz in Einklang zu bringen. Evan Parker ist ein Meister des solos. Er spielt im Trio zusammen mit Barry Guy und Paul Lytton und mit The Evan Parker Electro-Acoustic Ensemble\, sowie mit dem Globe Unity und dem London Jazz composer Orchester. Konzerte und Aufnahmen führen ihn u.a. weltweit mit Derek Bailey\, John Stevens\, Paul Rutherford\, Tony Oxley\, Phil Wachsmann\, Anthony Braxton\, Steve Lacy\, George Lewis\, Irene Schweizer\, Alexander von Schlippenbach\, Paul Lovens\, Paul Bley\, Barre Phillips\, John Tilbury\, Han Bennink\, Sam Rivers\, Roscoe Mitchell\, Peter Brötzmann\, Sainkho Namtchylak zusammen. Urs Leimgruber hat eine langjährige Erfahrung im Bereich zeitgenössicher Improvisation\, Komposition\, Jazz und Neuer Musik. Solo Konzerte und im Duo zusammen mit Fritz Hauser\, im Trio mit Barre Phillips und Jacques Demierre\, sowie mit Quartet Noir bestehend aus Marilyn Crispell\, Joëlle Léandre und Fritz Hauser in Europa\, Kanada\, USA und Japan. Konzerte und Aufnahmen mit Steve Lacy\, Fred Frith\, Michel Doneda\, Keith Rowe\, Günter Christmann\, Lauren Newton\, Günter Müller u.a. \n“Urs Leimgruber spielt auf eine so faszinierende Weise Saxophon\, dass man glauben könnte\, andere Klangerzeuger zu hören. Er weiss auf seinen Instrumenten Trommeln sprechen\, Gitarren klingen und Gongs nachhallen zu lassen. Sein Spiel wirkt beinahe entinstrumentalisiert\, befreit von Nebenbedeutungen und auch in der komplexen Gestaltung auf unerwartete Weise pur. Klang an sich. Seine Musik mutet an wie ein klingendes Manifest\, ein tönender Daumenabdruck\, eine Soundkarte mit einem unverwechselbaren\, nur mit persönlichem Atem einzugebenden Code.“ Bert Noglik
URL:https://www.loftkoeln.de/event/duo-evan-parker-urs-leimgruber/
END:VEVENT
END:VCALENDAR