BEGIN:VCALENDAR
VERSION:2.0
PRODID:-//www.loftkoeln.de - ECPv5.14.2.1//NONSGML v1.0//EN
CALSCALE:GREGORIAN
METHOD:PUBLISH
X-WR-CALNAME:www.loftkoeln.de
X-ORIGINAL-URL:https://www.loftkoeln.de
X-WR-CALDESC:Veranstaltungen für www.loftkoeln.de
BEGIN:VTIMEZONE
TZID:Europe/Berlin
BEGIN:DAYLIGHT
TZOFFSETFROM:+0100
TZOFFSETTO:+0200
TZNAME:CEST
DTSTART:20040328T010000
END:DAYLIGHT
BEGIN:STANDARD
TZOFFSETFROM:+0200
TZOFFSETTO:+0100
TZNAME:CET
DTSTART:20041031T010000
END:STANDARD
END:VTIMEZONE
BEGIN:VEVENT
DTSTART;TZID=Europe/Berlin:20040205T203000
DTEND;TZID=Europe/Berlin:20040205T203000
DTSTAMP:20260421T180121
CREATED:20250116T184547Z
LAST-MODIFIED:20250116T184547Z
UID:28740-1076013000-1076013000@www.loftkoeln.de
SUMMARY:Duo: Brötzmann - Bennimk
DESCRIPTION:Peter Brötzmann – reeds\n Han Bennink – Schlagwerk \nNur wenige Worte\, die es zu verlieren gibt\, um zwei Musiker vorzustellen\, die zu den wichtigsten Wegbereitern des Europäischen frei improvisierten Jazz gehören\, und diesen aktuell nach wie vor kreativ und innovativ mit prägen. \nPeter Brötzmann\, er war unlängst auch mit dem neuen Saxophon Trio mit Mats Gustafsson und Ken Vandermark sowie mit Hamid Drake im Duo im LOFT zu hören \, verbindet eine jahrzehntelange Zusammenarbeit mit holländischen Schlagwerker Han Bennink\, der u.a. mit dem ICP Orchester von Misha Mengelberg\, der Punk-Band The EX oder mit dem Tobias Delius Quartett spielt und im letzten Monat mit dem Pianisten Simon Nabatov im Loft zu hören war.
URL:https://www.loftkoeln.de/event/duo-broetzmann-bennimk/
END:VEVENT
END:VCALENDAR