BEGIN:VCALENDAR
VERSION:2.0
PRODID:-//www.loftkoeln.de - ECPv5.14.2.1//NONSGML v1.0//EN
CALSCALE:GREGORIAN
METHOD:PUBLISH
X-WR-CALNAME:www.loftkoeln.de
X-ORIGINAL-URL:https://www.loftkoeln.de
X-WR-CALDESC:Veranstaltungen für www.loftkoeln.de
BEGIN:VTIMEZONE
TZID:UTC
BEGIN:STANDARD
TZOFFSETFROM:+0000
TZOFFSETTO:+0000
TZNAME:UTC
DTSTART:20120101T000000
END:STANDARD
END:VTIMEZONE
BEGIN:VEVENT
DTSTART;TZID=UTC:20121217T203000
DTEND;TZID=UTC:20121217T203000
DTSTAMP:20260421T142155
CREATED:20171010T134153Z
LAST-MODIFIED:20171010T134153Z
UID:5400-1355776200-1355776200@www.loftkoeln.de
SUMMARY:double plan
DESCRIPTION:Udo Moll – Trompete\nLeonhard Huhn – Saxophon\nElisabeth Fügemann – Violoncello\nRobert Landfermann – Kontrabass \n\nEingecheckt versteckt im Zwischenstopp zur Landung. Ein Improvisationsabend in Spitzenbesetzung in der Vorweihnachtszeit mit Petersilie (oder einer anderen kleinen Überraschung). Das darf man sich nicht entgehen lassen!
URL:https://www.loftkoeln.de/event/double-plan/
END:VEVENT
END:VCALENDAR