BEGIN:VCALENDAR
VERSION:2.0
PRODID:-//www.loftkoeln.de - ECPv5.14.2.1//NONSGML v1.0//EN
CALSCALE:GREGORIAN
METHOD:PUBLISH
X-WR-CALNAME:www.loftkoeln.de
X-ORIGINAL-URL:https://www.loftkoeln.de
X-WR-CALDESC:Veranstaltungen für www.loftkoeln.de
BEGIN:VTIMEZONE
TZID:UTC
BEGIN:STANDARD
TZOFFSETFROM:+0000
TZOFFSETTO:+0000
TZNAME:UTC
DTSTART:20080101T000000
END:STANDARD
END:VTIMEZONE
BEGIN:VEVENT
DTSTART;TZID=UTC:20080410T203000
DTEND;TZID=UTC:20080410T203000
DTSTAMP:20260424T105034
CREATED:20180826T074038Z
LAST-MODIFIED:20180826T081319Z
UID:9254-1207859400-1207859400@www.loftkoeln.de
SUMMARY:Doppelkonzert Wolter Wierbos- Solo & Nils Wogram & Root 70
DESCRIPTION:Wolter Wierbos – trombone \nNils Wogram – trombone\nHayden Chisholm – saxophone\,clarinet\,\nPhil Donkin – bass\nJochen Rückert – drums \n\nWas soll man zu diesem Konzert schreiben außer: Sofort Karten vorbestellen\, denn wann hört man schon einmal 2 der besten Posaunisten Europas in einem Konzert und dazu eine der besten Bands überhaupt! Eigentlich war es so nicht geplant\, denn Wolter sollte solo spielen nach einem Workshop\, den er an der Musikhochschule an diesem Tag gibt. Als Nils jedoch einen Offdate von Root 70 signalisierte wurde ganz schnell ein Doppelkonzert daraus (Dank an Wolter und Dieter Manderscheid !). \nNicht nur\, dass er den VPRO Boy Edgar Prize\, den wichtigsten Niederländischen Jazzpreis\, erhalten hat\, seit vielen Jahren ist er einer der kreativsten Posaunisten der Europäischen Jazz Szene. Im Loft hat er oft gespielt in vielen Besetzungen\, zuletzt Bik Bent Braam.\nwww.wolterwierbos.nl \nIm Loft gab die “Kölner” Band Nils Wograms& Root70 ihr erstes Konzert\, ihre erste CD erschien im LOFT Label 2nd Floor – so freut es uns besonders\, dass sie immer wieder die Gelegenheit nutzt\, das Loft zu besuchen – diesmal nicht mit Mat Penman (der tourt mit John Scofield)\, sondern mit dem jungen englischen Bassisten Phil Donkin\, der schon beim Hayden Chisholm Projekt im Dezember 2005 Aufsehen erregt hat. \nNils Wogram gehört mittlerweile zu einem der meistbeachtesten Jazzposaunisten in Europa. Seine 13CD Veröffentlichungen (u.a. Enja Records) wurden von der Presse wegen ihrer ausgefeilten Kompositionen und deren brillanter Umsetzung euphorisch gefeiert. Nils Wograms working Band „Root 70” bringt 4 Musiker zusammen\, die alle bereits in jungen Jahren (Jahrgang 72-76) als neue Stimme auf ihren Instrumenten gelten und mit viel Erfolg ihre eigenen Bands leiten. Die Konzerte der vier Musiker aus Deutschland\, Neuseeland und England (Jahrgang 72-75) versprechen ein spannendes Interkontinentales Hörerlebnis mit der Handschrift Nils Wograms. New York\, die Wahlheimat des Drummers Jochen Rückert\, ist hierbei ebenso prägend wie Europa für den Saxofonisten und Weltenbummler Hayden Chisholm. Den Jazz als Grundlage nehmend schaut Root 70 jedoch auch gerne über den Tellerrand hinaus und verarbeitet Einflüsse aus Volksmusik und aktuellen Strömungen aller Musikstile . Ein rhythmisches Feuerwerk einer eingespielten Band wie man es nur selten zu hören bekommt! \nAm 18. April sind Hayden und Jochen dann noch einmal mit eigenen Projekten im Loft zu hören – siehe Programm ! \nSonderpreis 10.-€uro\nStudenten 8.-€uro\nStudenten der Musikhochschule Köln 5.-€uro
URL:https://www.loftkoeln.de/event/doppelkonzert-wolter-wierbos-solo-nils-wogram-root70/
END:VEVENT
END:VCALENDAR