BEGIN:VCALENDAR
VERSION:2.0
PRODID:-//www.loftkoeln.de - ECPv5.14.2.1//NONSGML v1.0//EN
CALSCALE:GREGORIAN
METHOD:PUBLISH
X-WR-CALNAME:www.loftkoeln.de
X-ORIGINAL-URL:https://www.loftkoeln.de
X-WR-CALDESC:Veranstaltungen für www.loftkoeln.de
BEGIN:VTIMEZONE
TZID:UTC
BEGIN:STANDARD
TZOFFSETFROM:+0000
TZOFFSETTO:+0000
TZNAME:UTC
DTSTART:20080101T000000
END:STANDARD
END:VTIMEZONE
BEGIN:VEVENT
DTSTART;TZID=UTC:20080520T203000
DTEND;TZID=UTC:20080520T203000
DTSTAMP:20260424T121816
CREATED:20180821T140444Z
LAST-MODIFIED:20180821T140444Z
UID:9180-1211315400-1211315400@www.loftkoeln.de
SUMMARY:DOPPELKONZERT: Three Fall // Flippertrio
DESCRIPTION:Three Fall :\nSebastian Winne – drums\nTil Schneider – trb.\, sousaphon\, didgeridoo\nLutz Streun – ts.\, bcl.\n\nFlippertrio:\nPhilip Mancarella – Tasteninstrumente\nArmin Alic – Bass\nChristian Mohrhenn – Schlagzeug \n\nWird der Boden unter den Füßen weggezogen\, beginnt der freie Fall. Als freier Fall ist die durch die Erdanziehungskraft bewirkte Bewegung eines Körpers definiert. Dieser Körper ist in diesem Fall ein Trio\, zwei Bläser und ein Schlagzeuger\, das sich ohne „Boden“ unter den Füßen bzw. ohne gängigem Bass und Harmonieinstrument\, bewegt. Es werden Geschichten mit Saxophon\, Posaune\, Sousaphon\, Bass Klarinette und Schlagzeug erzählt\, die aus eigenen Kompositionen stammen und ein Ergebnis des freien Fall des Lebens sind. Alle drei Musiker sind sehr aktiv in der Kölner Musikszene (Firefunkers\, Sindikaat\, Mezartha\, Brass Action Heroes\, Lautstark!4…) und kennen sich über den Funk\, Jazz\, HipHop. Dieses Projekt hat allerdings keine konkrete Musikrichtung: Musik ist die Anziehung\, die Erdanziehung!
URL:https://www.loftkoeln.de/event/doppelkonzert-three-fall-flippertrio-2/
END:VEVENT
END:VCALENDAR