BEGIN:VCALENDAR
VERSION:2.0
PRODID:-//www.loftkoeln.de - ECPv5.14.2.1//NONSGML v1.0//EN
CALSCALE:GREGORIAN
METHOD:PUBLISH
X-WR-CALNAME:www.loftkoeln.de
X-ORIGINAL-URL:https://www.loftkoeln.de
X-WR-CALDESC:Veranstaltungen für www.loftkoeln.de
BEGIN:VTIMEZONE
TZID:UTC
BEGIN:STANDARD
TZOFFSETFROM:+0000
TZOFFSETTO:+0000
TZNAME:UTC
DTSTART:20050101T000000
END:STANDARD
END:VTIMEZONE
BEGIN:VEVENT
DTSTART;TZID=UTC:20051214T203000
DTEND;TZID=UTC:20051214T203000
DTSTAMP:20260424T174511
CREATED:20180118T084422Z
LAST-MODIFIED:20180118T084422Z
UID:7338-1134592200-1134592200@www.loftkoeln.de
SUMMARY:Doppelkonzert: KnoM.T. (Monk reversed) & Trio ASP
DESCRIPTION:KnoM.T. (Monk reversed):\nLömsch Lehmann – Sax/Clar.\n Sebastian Gramss – Kontrabass \nSebastian Gramss und Lömsch Lehmann spielen seit 20 Jahren zusammen.\nSeit 1993 musizieren sie in der Gruppe „Underkarl“ und als Duo unter dem Namen Knom.T. Auf der Basis von Kompositionen des Meisters Thelonius Monk\, entwickeln die beiden einen völlig neuen Ansatz der Interpretation. Die Komposition werden rückwärts gespielt. Dabei ist ihre langjährge gemeinsame musikalische Erfahrung das unüberhörbare Fundament. \nPresse:\nCadence Magazine\, New York :\n„…Lehmann and Gramss (Knom.T) are both very skilled instrumentalists\, Lehmann´s clarinet work on „Consecutive Seconds“ is puckish\, and when he blows tenor straight\, he approximates the power of Archie Shepp in his early prime. He commands a real wide range of extended techniques.\n Sebastian Gramss is a masterful bass player\, estasblishing his ability to play full dark lines\, then demonstrating a consistently firm grasp of arco technique.(…)“ \n\nTrio ASP:\nAngelika Niescier – Alto sax\nSebastian Gramss – Kontrabass\n Peter Kahlenborn – Drums \n\n„Diese Trio spielt feiste Feinheiten und anderes. Die Musik ist voller Sattheit. Im Kammermusik ist Schönes und klanglich zugleich Die Klänge sind mit anmutigster Reinheit gepaart. Es ist somit eine Freude des echten Ohres“ (Google Translation) \n\nim Anschluss: Die anwesenden Musiker erzeugen gemeinsam weitere Klänge.\nwww.angelika-niescier.de \n 
URL:https://www.loftkoeln.de/event/doppelkonzert-knom-t-monk-reversed-trio-asp/
END:VEVENT
END:VCALENDAR