BEGIN:VCALENDAR
VERSION:2.0
PRODID:-//www.loftkoeln.de - ECPv5.14.2.1//NONSGML v1.0//EN
CALSCALE:GREGORIAN
METHOD:PUBLISH
X-WR-CALNAME:www.loftkoeln.de
X-ORIGINAL-URL:https://www.loftkoeln.de
X-WR-CALDESC:Veranstaltungen für www.loftkoeln.de
BEGIN:VTIMEZONE
TZID:Europe/Berlin
BEGIN:DAYLIGHT
TZOFFSETFROM:+0100
TZOFFSETTO:+0200
TZNAME:CEST
DTSTART:20050327T010000
END:DAYLIGHT
BEGIN:STANDARD
TZOFFSETFROM:+0200
TZOFFSETTO:+0100
TZNAME:CET
DTSTART:20051030T010000
END:STANDARD
END:VTIMEZONE
BEGIN:VEVENT
DTSTART;TZID=Europe/Berlin:20050903T203000
DTEND;TZID=Europe/Berlin:20050903T203000
DTSTAMP:20260423T222115
CREATED:20240305T162717Z
LAST-MODIFIED:20240305T162717Z
UID:26451-1125779400-1125779400@www.loftkoeln.de
SUMMARY:Doppelkonzert: DUO: HO BYNUM - BERNSEN & QUINTET: HO BYNUM - SCHUBERT - BEERKIRCHER - GRAMMS - KÖLSCH
DESCRIPTION:DOPPELKONZERT \nDUO\nTAYLOR HO BYNUM – RACHEL BERNSEN\nTaylor Ho Bynum – Trompete\nRachel Bernsen – Tanz \nQUINTET\nTAYLOR HO BYNUM – MATTHIAS SCHUBERT\nRALPH BEERKIRCHER-SEBASTIAN GRAMMS – DIRK-PETER KÖLSCH\nTaylor Ho Bynum – Trompete\nMatthias Schubert – Saxophon\nSebastian Gramss – Bass\nDirk-Peter Kölsch – Schlagzeug \n\nBei ihrem gemeinsamen USA Aufenthalt letztes Jahr lernten Ralph Beerkircher und Matthias Schubert den Trompeter Taylor Ho Bynum kennen. Taylor gehört zur neuen Generation der jungen New York Improvisatoren.  \nDer junge Ausnahmetrompeter wird mit seiner Frau Rachel Bernsen im Duo\, sowie mit bekannten Kollegen aus der Kölner Szene zu hören sein.
URL:https://www.loftkoeln.de/event/doppelkonzert-duo-ho-bynum-bernsen-quintet-ho-bynum-schubert-beerkircher-gramms-koelsch/
END:VEVENT
END:VCALENDAR