BEGIN:VCALENDAR
VERSION:2.0
PRODID:-//www.loftkoeln.de - ECPv5.14.2.1//NONSGML v1.0//EN
CALSCALE:GREGORIAN
METHOD:PUBLISH
X-WR-CALNAME:www.loftkoeln.de
X-ORIGINAL-URL:https://www.loftkoeln.de
X-WR-CALDESC:Veranstaltungen für www.loftkoeln.de
BEGIN:VTIMEZONE
TZID:UTC
BEGIN:STANDARD
TZOFFSETFROM:+0000
TZOFFSETTO:+0000
TZNAME:UTC
DTSTART:20190101T000000
END:STANDARD
END:VTIMEZONE
BEGIN:VEVENT
DTSTART;TZID=UTC:20190613T203000
DTEND;TZID=UTC:20190613T203000
DTSTAMP:20260422T111839
CREATED:20190429T061936Z
LAST-MODIFIED:20190610T090343Z
UID:11381-1560457800-1560457800@www.loftkoeln.de
SUMMARY:Doppel-Duo-Konzert: Antonino Restuccia & Santiago Bogacz // Martin Blume & Matthias Muche
DESCRIPTION:Antonino Restuccia – Bass\nSantiago Bogacz – Gitarre & Stimme \nAntonino Restuccia und Santiago Bogacz stammen beide aus Uruguay und spielen seit Juli 2017 zusammen. Nachdem sie bemerkt hatten\, dass ihre Spielstile sich sehr ähneln\, haben sie an musikalischem Material gearbeitet\, das Improvisation mit folkloristischer Musik ihres Heimatlandes\, des südamerikanischen Kontinents und Nord-Afrika verbindet. In ihrer Musik vermischen sie diese Dinge mit Experimenten\, gespeist aus ihren persönlichen Erfahrungen und Geschmäckern.\nDas Konzert ist Teil ihrer ersten Europatournee \nhttps://matador-uy.bandcamp.com/album/subsuelo \nRezension von allaboutjazz.com:\nhttps://www.allaboutjazz.com/ducon-matador-self-produced-review-by-hrayr-attarian.php \n\nMatthias Muche – Posaune\nMartin Blume  – Schlagzeug \n© Ingrid Hoberg\nMusik zwischen Jericho einstürzenden Blechbläserkaskaden und zarten Klanggeflechten aus Luft und Ton\, resonierenden Obertönen mit vielschichtigen Artikulationen in denen die Posaune mit ihren physikalisch akustischen Eigenschaften und der Körperlichkeit „Muches“ an die Grenzen und darüber hinaus beflügelt wird; angetrieben vom Schlagwerk „Blumes“ wird der archaische Klangapparat durch die Knochenmühle gedreht…pulverisiert\, sublimiert und wieder neu Atem eingehaucht.\nNach einem ersten Zusammentreffen im Duo beim Jazzwerkstatt Peitz Festival war klar\, dass es eine Fortsetzung der musikalischen Geschichte geben muss. \nMartin Blume „gehört zu den führenden Vertretern der europäischen Improvisationsmusik\, wobei ihn seine ausgeprägte quasi-kompositorische Sensibilität auszeichnet\, die auf eine enge Verbindung zur Neuen Musik verweist.“ Er hat seit Anfang der 80er Jahre im internationalen Kontext der Avantgarde von Jazz\, Improvisierter und Neuer Musik in den unterschiedlichsten Formationen u.a. mit Musikern wie Peter Brötzmann\, Peter Kowald\, Johannes Bauer\, Phil Minton\, Lol Coxhill\, Georg Gräwe\, Jim Denley\, Luc Houtkamp\, Phil Wachsmann\, John Butcher\, Thomas Lehn\, Xu Feng Xia\, Ken Vandermark und Kent Kessler zusammengespielt.\nwww.martinblume.de \nDie viel zitierten „Grenzbereiche“ ziehen sich wie ein roter Faden durch die Aktivitäten des in Köln lebenden Posaunisten Matthias Muche. Er verbindet in seinem Spiel die „sonoren“ Klangmöglichkeiten seines Instruments mit abenteuerlichsten erweiterten Spieltechniken und schafft einen engen Bezug zur Ästhetik aus dem Bereich Klangkunst\, Neuer Musik und Jazz.\nDer Fokus seiner Arbeit lag bisher auf interdisziplinären Projekten im Bereich Musik\, Tanz und Videokunst in denen intermediale Kompositionskonzepte erforscht werden und mit denen er als Timeart-Ensemble um die ganze Welt reiste.\nSeine Kompositionen und Improvisationen führen diese ganz unterschiedlichen Einflüsse zusammen und erzählen sehr abwechslungsreiche musikalische Geschichten in denen variierende Spielaufbauten verwendet werden: mit Zuspielern von Text\, Spatialisierungen über externe Schalltrichter\, interaktive Computergrafiken oder ganz pur die nackte Posaune. \n[…] Seine Musik verwendet alle Formen von Klangerweiterung des Instruments\, die zeitweise wie elektronische Musik klingt\, dann wieder Rhythmische und Melodische Idiome aus dem Jazz aufgreift und weiter spinnt. Einzelne Teile lassen jedoch auch an die Musik eines Sciarrino und Lachenmann erinnern.\nby Rui Eduardo Paes in Jazz.pages \n[…] Muche is in the tradition of Paul Rutherford and Johannes Bauer\, with an organic trombone style\, zigzaging between eruptive cries and tender exhalations\, able to switch direction at will.\nby Martin Schray\nhttp://www.matthiasmuche.com
URL:https://www.loftkoeln.de/event/doppel-duo-konzert-antonino-restuccia-santiago-bogacz-martin-blume-matthias-muche/
END:VEVENT
END:VCALENDAR