BEGIN:VCALENDAR
VERSION:2.0
PRODID:-//www.loftkoeln.de - ECPv5.14.2.1//NONSGML v1.0//EN
CALSCALE:GREGORIAN
METHOD:PUBLISH
X-WR-CALNAME:www.loftkoeln.de
X-ORIGINAL-URL:https://www.loftkoeln.de
X-WR-CALDESC:Veranstaltungen für www.loftkoeln.de
BEGIN:VTIMEZONE
TZID:UTC
BEGIN:STANDARD
TZOFFSETFROM:+0000
TZOFFSETTO:+0000
TZNAME:UTC
DTSTART:20120101T000000
END:STANDARD
END:VTIMEZONE
BEGIN:VEVENT
DTSTART;TZID=UTC:20120903T200000
DTEND;TZID=UTC:20120903T200000
DTSTAMP:20260420T144611
CREATED:20171012T070657Z
LAST-MODIFIED:20171012T070657Z
UID:5528-1346702400-1346702400@www.loftkoeln.de
SUMMARY:Diplomkonzerte: Martin Hutter – Trompete und Ramon Keck – Schlagzeug
DESCRIPTION:Martin Hutter – trp.\, flgh.\nJanning Trumann – trb.\nYannick Richter – guit.\nSimon Seidl – piano\nThomas Sauerborn – drums\nPeter Laib – tuba\, sousaph. \nMartin Hutter ist ein Trompeter\, der in mehreren Musikgenres tätig ist. \nAuf der einen Seite ist er mit der Hip Hop Brass Band Moop Mama das ganze Jahr unterwegs\, auf der anderen Seite ist er als Flügelhornist und Trompeter festes Mitglied beim erfolgreichsten Blasorchester der Welt „Ernst Hutter und die Egerländer Musikanten“. Außerdem konnte er nach mehreren Auftritten mit diversen Big Bands wie zum Beispiel SWR Big Band und European Masterclass Big Band einiges an Erfahrung sammeln. An diesem Abend möchte Martin Hutter all seine Tätigkeiten als Musiker in einem Konzert zusammenbringen. Es wird also nicht nur der Jazz/Funk eine Rolle spielen – auch einige Anekdoten aus der Blasmusik können erwartet werden… \n\nEndgegner:\nChristoph Klenner – ts.\nSimon Seidl – p.\nChristina Zurhausen – g.\nDominik Ehrl – eb.\nRamon Keck – dr \nDer letzte Endgegner des Studiums! Doch der Kölner Schlagzeuger Ramon Keck ist nicht auf sich alleine gestellt! Zusammen mit einem Team aus musikalischen Abenteurern werden teils bekannte Videospielmelodien in das weite Reich des Modern Jazz transportiert. Wobei die Charaktere der Stücke mit den Nebengenres Klassik\, Rock\, Funk und Free sehr variantenreich daher kommen. Ebenso die Melodien\, welche aus Klassikern wie Zelda\, Final Fantasy oder Metroid stammen. Auch wem der virtuelle Spielplatz unbekannt ist\, kann sich hier ein anderes Bild von der meist unterschätzen Gamesmusik machen\, welche hier mit dem erreichten Erfahrungslevel von Ramon und seinen Kollegen an der HfM  Köln in neuem Gewand präsentiert wird. \nUnd das alles live in der Ego-Perspektive im grafisch prachtvollen LOFT Köln!
URL:https://www.loftkoeln.de/event/diplomkonzerte-martin-hutter-%e2%80%93-trompete-und-ramon-keck-%e2%80%93-schlagzeug/
END:VEVENT
END:VCALENDAR