BEGIN:VCALENDAR
VERSION:2.0
PRODID:-//www.loftkoeln.de - ECPv5.14.2.1//NONSGML v1.0//EN
CALSCALE:GREGORIAN
METHOD:PUBLISH
X-WR-CALNAME:www.loftkoeln.de
X-ORIGINAL-URL:https://www.loftkoeln.de
X-WR-CALDESC:Veranstaltungen für www.loftkoeln.de
BEGIN:VTIMEZONE
TZID:UTC
BEGIN:STANDARD
TZOFFSETFROM:+0000
TZOFFSETTO:+0000
TZNAME:UTC
DTSTART:20130101T000000
END:STANDARD
END:VTIMEZONE
BEGIN:VEVENT
DTSTART;TZID=UTC:20130712T203000
DTEND;TZID=UTC:20130712T203000
DTSTAMP:20260424T140807
CREATED:20170420T113351Z
LAST-MODIFIED:20170420T113351Z
UID:4749-1373661000-1373661000@www.loftkoeln.de
SUMMARY:Diplomkonzert Thomas Esch - Schlagzeug: „The Keys Projekt“
DESCRIPTION:Holger Dieffendhal – Piano\nKenn Hartwig – Kontrabass\nThomas Esch- Schlagzeug \n\nDas Kölner Klaviertrio „The Keys Project“ um den Pianisten Holger Dieffendahl orientiert sich stark an den aktuellen Strömungen des europäischen Jazz. Auch wenn der Einfluss von Übersee nicht zu leugnen ist\, greift es vor allem auf die eigenen Wurzeln zurück. Komplexe Kompositionen wie die dreiteilige Suite „Blizzard“ erinnern einerseits an frühere Formgestaltung\, mischen jedoch andererseits auf eigene Art die Stilmittel des Fusion mit dem Soundideal und Improvisationsfreiraum des Jazz. Das Trio weicht Grenzen zwischen den Genres auf und richtet seinen Blick nach vorn auf die stetige Weiterentwicklung der modernen Trios. Offenes synkopiertes Spiel und eine große Dynamikbreite bestimmen die langen Spannungsbögen\, bei denen die drei Musiker Energie geladen ihr Klangbild definieren. \nEintritt: 6.-€uro
URL:https://www.loftkoeln.de/event/diplomkonzert-thomas-esch-schlagzeug-%e2%80%9ethe-keys-projekt%e2%80%9c/
END:VEVENT
END:VCALENDAR