BEGIN:VCALENDAR
VERSION:2.0
PRODID:-//www.loftkoeln.de - ECPv5.14.2.1//NONSGML v1.0//EN
CALSCALE:GREGORIAN
METHOD:PUBLISH
X-WR-CALNAME:www.loftkoeln.de
X-ORIGINAL-URL:https://www.loftkoeln.de
X-WR-CALDESC:Veranstaltungen für www.loftkoeln.de
BEGIN:VTIMEZONE
TZID:Europe/Berlin
BEGIN:DAYLIGHT
TZOFFSETFROM:+0100
TZOFFSETTO:+0200
TZNAME:CEST
DTSTART:20040328T010000
END:DAYLIGHT
BEGIN:STANDARD
TZOFFSETFROM:+0200
TZOFFSETTO:+0100
TZNAME:CET
DTSTART:20041031T010000
END:STANDARD
END:VTIMEZONE
BEGIN:VEVENT
DTSTART;TZID=Europe/Berlin:20040722T200000
DTEND;TZID=Europe/Berlin:20040722T200000
DTSTAMP:20260425T145250
CREATED:20240919T114547Z
LAST-MODIFIED:20240919T114547Z
UID:27776-1090526400-1090526400@www.loftkoeln.de
SUMMARY:Diplomkonzert: Simon Rummel „Wunschkonzert“
DESCRIPTION:Anne Simmering – voc \nMichèl Felgner – voc \nCarolin Pook – vl \nFedor Ruskuc – b\nChristoph Barth – laute \nEllen Barth – akk\, voc \nLaia Genc – p\, utensilien\nAnnette Maye – cl\, bcl\nNorman Kunz – fl\, voc \nAnna Kaluza – as ;\nJohannes Nink – ts \nThomas Gläßer – tp\, p\nBen Degen – tb \nJoe Hertenstein – dr\, voc \nSimon Rummel – p\, voc\, lead \n\nJeder teilnehmende Musiker wünscht sich einen Song\, irgendwo zwischen Monteverdi und Prince\, und bekommt von dem Prüfling Simon Rummel ein Arrangement desselben auf den Klangkörper geschneidert .Es wird ein durchaus anziehendes Programm: Schlafanzüge\, Stützstrumpfhosen\, Bademode\, Hochzeitskleider\, Jammerlappen\, Füßlinge\, Uniformen\, Tangas\, einige Kleinigkeiten aus dem Theaterfundus\, Tütüs\, Flickenteppiche\, Korsette\, Männerröcke\, mit einem Wort: Buntwäsche.
URL:https://www.loftkoeln.de/event/diplomkonzert-simon-rummel-wunschkonzert/
END:VEVENT
END:VCALENDAR