BEGIN:VCALENDAR
VERSION:2.0
PRODID:-//www.loftkoeln.de - ECPv5.14.2.1//NONSGML v1.0//EN
CALSCALE:GREGORIAN
METHOD:PUBLISH
X-WR-CALNAME:www.loftkoeln.de
X-ORIGINAL-URL:https://www.loftkoeln.de
X-WR-CALDESC:Veranstaltungen für www.loftkoeln.de
BEGIN:VTIMEZONE
TZID:UTC
BEGIN:STANDARD
TZOFFSETFROM:+0000
TZOFFSETTO:+0000
TZNAME:UTC
DTSTART:20100101T000000
END:STANDARD
END:VTIMEZONE
BEGIN:VEVENT
DTSTART;TZID=UTC:20100324T203000
DTEND;TZID=UTC:20100324T203000
DTSTAMP:20260424T155527
CREATED:20171027T090849Z
LAST-MODIFIED:20171027T090849Z
UID:6147-1269462600-1269462600@www.loftkoeln.de
SUMMARY:Diplomkonzert: René Schmitz - vocals // „Songs to Remember“
DESCRIPTION:René Schmitz – vocals\nMichael Falk – piano\nDavid Quaas – guitar\nLucas Arguimbau Febrer – bass\nNiklas Genschel – drums \n\nPop – Jazz – Songs. Warum sich klar für eines entscheiden\, wenn doch alle Stile ihren Reiz haben? Warum spezialisieren\, wenn doch die Vielfalt eine Spezialität sein kann? Verjazzte Popsongs und genüssliche Jazzstandards gibt es an diesem Abend von René Schmitz zu seinem Examenskonzert. Das Studium neigt sich dem Ende zu und so bringt er seine Interpretationen von Sting\, Joni Mitchell und anderen mit Band auf die Bühne. Töne\, Texte\, Melodien – zusammengepackt zu „Songs to Remember“.
URL:https://www.loftkoeln.de/event/diplomkonzert-rene-schmitz-vocals-%e2%80%9esongs-to-remember%e2%80%9c/
END:VEVENT
END:VCALENDAR