BEGIN:VCALENDAR
VERSION:2.0
PRODID:-//www.loftkoeln.de - ECPv5.14.2.1//NONSGML v1.0//EN
CALSCALE:GREGORIAN
METHOD:PUBLISH
X-WR-CALNAME:www.loftkoeln.de
X-ORIGINAL-URL:https://www.loftkoeln.de
X-WR-CALDESC:Veranstaltungen für www.loftkoeln.de
BEGIN:VTIMEZONE
TZID:UTC
BEGIN:STANDARD
TZOFFSETFROM:+0000
TZOFFSETTO:+0000
TZNAME:UTC
DTSTART:20070101T000000
END:STANDARD
END:VTIMEZONE
BEGIN:VEVENT
DTSTART;TZID=UTC:20070320T203000
DTEND;TZID=UTC:20070320T203000
DTSTAMP:20260422T225412
CREATED:20210526T073903Z
LAST-MODIFIED:20210526T073903Z
UID:17157-1174422600-1174422600@www.loftkoeln.de
SUMMARY:Diplomkonzert: Ralf Gessler
DESCRIPTION:Frederik Köster Quartet feat. Ralf Gessler \nFrederik Köster – trp\,flgh\, comp\nTobias Hoffmann – git\, loops\nRobert Landfermann – b.\nRalf Gessler – dr \n\nSeit Oktober 2003 gibt es das Quartett um Frederik Köster\, dessen Kompositionen sich an modernem Jazz und jazzverwandter Musik aller Art orientieren. Das Jazzpodium schreibt dazu: die junge Band…“besticht zwischen Mainstream und Groove mit süffigen Kompositionen auf der Höhe der Zeit\, ausgereifter Technik\, variablem Sound und zupackender Kraft.“ Auf die Veröffentlichung der ersten CD „Constantly Moving“ bei Double Moon Records in Zusammenarbeit mit der Zeitschrift Jazz Thing im September 06\, folgt nun im März 07 die Release – Tour\, bei dem das Quartett u.a. beim Rheingau Musikfestival\, sowie der internationalen Jazzwoche in Burghausen zu Gast ist. Den Abschluss der knapp zweiwöchigen Tour bildet das Diplomkonzert des Schlagzeugers Ralf Gessler\, der seit Beginn seines Studiums im Oktober 2002 in nahezu jeder Besetzung von Trio bis Big Band zu hören war. Dabei hatte er bereits während des Studiums Gelegenheit\, bei zahlreichen Auftritten im In- und Ausland auf sich aufmerksam zu machen. Für sein Diplomkonzert hat er sich ganz bewusst für dieses Quartett entschieden\, da seine Bandkollegen in den letzten Jahren für ihn nicht nur musikalisch zu Weggefährten wurden.
URL:https://www.loftkoeln.de/event/diplomkonzert-ralf-gessler/
END:VEVENT
END:VCALENDAR