BEGIN:VCALENDAR
VERSION:2.0
PRODID:-//www.loftkoeln.de - ECPv5.14.2.1//NONSGML v1.0//EN
CALSCALE:GREGORIAN
METHOD:PUBLISH
X-WR-CALNAME:www.loftkoeln.de
X-ORIGINAL-URL:https://www.loftkoeln.de
X-WR-CALDESC:Veranstaltungen für www.loftkoeln.de
BEGIN:VTIMEZONE
TZID:Europe/Berlin
BEGIN:DAYLIGHT
TZOFFSETFROM:+0100
TZOFFSETTO:+0200
TZNAME:CEST
DTSTART:20050327T010000
END:DAYLIGHT
BEGIN:STANDARD
TZOFFSETFROM:+0200
TZOFFSETTO:+0100
TZNAME:CET
DTSTART:20051030T010000
END:STANDARD
END:VTIMEZONE
BEGIN:VEVENT
DTSTART;TZID=Europe/Berlin:20050720T203000
DTEND;TZID=Europe/Berlin:20050720T203000
DTSTAMP:20260423T203101
CREATED:20240217T145615Z
LAST-MODIFIED:20240217T145615Z
UID:26332-1121891400-1121891400@www.loftkoeln.de
SUMMARY:Diplomkonzert: Peter Ehwald - Saxophon
DESCRIPTION:Paragon:\nPeter Ehwald – reeds (Köln)\nArthur Lea – piano&tenorhorn (London)\nJohn Calvert – bass (London)\nBen Bryant – drums\, percussion&vibes (London) \n\nParagon lässt balladeske Phrasen in die Ohren perlen\, Paragon rockt was das Zeug hält. Die Londoner und Kölner Jazzmusiker finden sich seit Jahren regelmäßig zusammen um gemeinsam Ihren Traum vom modern- improvisierten Jazzmoment in den Boden zu zwirbeln. Zwischen Free Bob und Be Pop verbinden die vier Musiker ihre starke Melodik mit rhythmischer Komplexität und harmonischer Bewegung. Neben den Klassischen Quartett Instrumenten wird zu Vibraphon\, Tenorhorn und Klarinette gegriffen um diverse Sounds und Kombinationsmöglichkeiten durch Spiel- und Experimentierfreude immer wieder neu auszuloten. \nwww.peter-ehwald.net \nwww.jazzhausmusik.de
URL:https://www.loftkoeln.de/event/diplomkonzert-peter-ehwald-saxophon/
END:VEVENT
END:VCALENDAR