BEGIN:VCALENDAR
VERSION:2.0
PRODID:-//www.loftkoeln.de - ECPv5.14.2.1//NONSGML v1.0//EN
CALSCALE:GREGORIAN
METHOD:PUBLISH
X-WR-CALNAME:www.loftkoeln.de
X-ORIGINAL-URL:https://www.loftkoeln.de
X-WR-CALDESC:Veranstaltungen für www.loftkoeln.de
BEGIN:VTIMEZONE
TZID:UTC
BEGIN:STANDARD
TZOFFSETFROM:+0000
TZOFFSETTO:+0000
TZNAME:UTC
DTSTART:20050101T000000
END:STANDARD
END:VTIMEZONE
BEGIN:VEVENT
DTSTART;TZID=UTC:20050318T203000
DTEND;TZID=UTC:20050318T203000
DTSTAMP:20260422T201301
CREATED:20200418T104606Z
LAST-MODIFIED:20200418T104606Z
UID:14336-1111177800-1111177800@www.loftkoeln.de
SUMMARY:DIPLOMKONZERT Paz Miranda - Jazz Gesang
DESCRIPTION:Die chilenische Sängerin Paz Miranda (1975) kam nach einem Studium der klassischen Querflöte und Arrangement am „Instituto Escuela Moderna de Música“ in Santiago de Chile im Jahre 1997 nach Deutschland\, um hier an der Musikhochschule in Köln Gesang zu studieren. In ihrer künstlerischen Arbeit verbindet Paz Miranda ihre musikalischen Wurzeln der chilenischen Folksmusik mit Elementen des modernen\, improvisierten Gesangs. Aktuell arbeitet sie im Duo mit dem deutschen Pianisten Florian Weber\, außerdem trat sie als Solistin der Gruppe „Los Chincoles“ auf und gab Konzerte mit u.a. Markus Stockhausen und Enrique Diaz. Paz Mirandas Repertoire reicht von traditionellen Boleros und peruanischer und chilenischer Folkmusik bis hin zu freier Improvisation. Neben ihrer Tätigkeit als Sängerin tritt Paz Miranda auch als Komponistin in Erscheinung
URL:https://www.loftkoeln.de/event/diplomkonzert-paz-miranda-jazz-gesang/
END:VEVENT
END:VCALENDAR