BEGIN:VCALENDAR
VERSION:2.0
PRODID:-//www.loftkoeln.de - ECPv5.14.2.1//NONSGML v1.0//EN
CALSCALE:GREGORIAN
METHOD:PUBLISH
X-WR-CALNAME:www.loftkoeln.de
X-ORIGINAL-URL:https://www.loftkoeln.de
X-WR-CALDESC:Veranstaltungen für www.loftkoeln.de
BEGIN:VTIMEZONE
TZID:UTC
BEGIN:STANDARD
TZOFFSETFROM:+0000
TZOFFSETTO:+0000
TZNAME:UTC
DTSTART:20130101T000000
END:STANDARD
END:VTIMEZONE
BEGIN:VEVENT
DTSTART;TZID=UTC:20130622T203000
DTEND;TZID=UTC:20130622T203000
DTSTAMP:20260423T022241
CREATED:20170420T120431Z
LAST-MODIFIED:20170420T120431Z
UID:4755-1371933000-1371933000@www.loftkoeln.de
SUMMARY:Diplomkonzert Max Mille – Saxophon: Max Mille Quartett & SØKS
DESCRIPTION:Max Mille Quartett:\nMax Mille – as\nThomas Mika – piano/keys\nMeike Krautscheid – bass\nNico Stallmann – drums \n SØKS:\nTheresia Philipp – ss/as\nMax Mille – as\nJulian Büttner – ts\nNikolaus Rademacher – bs \n\nGleich in zwei Besetzungen bestreitet Saxophonist Max Mille sein Examenskonzert. Als Abschluss seines Musikstudiums an der Kölner Musikhochschule präsentiert er eigene Kompositionen in Combo-Besetzung mit dem Max-Mille-Quartett. Spannende Arrangements bekannter Jazz-Standards wird das Saxophonquartett SØKS zum Besten geben. Wenn dann noch der Saxophonsatz und die Rhythmusgruppe verschmelzen\, ist ein Stück Bigbandsound nicht mehr weit. \n www.maxmille.de
URL:https://www.loftkoeln.de/event/diplomkonzert-max-mille-%e2%80%93-saxophon-max-mille-quartett-soks/
END:VEVENT
END:VCALENDAR