BEGIN:VCALENDAR
VERSION:2.0
PRODID:-//www.loftkoeln.de - ECPv5.14.2.1//NONSGML v1.0//EN
CALSCALE:GREGORIAN
METHOD:PUBLISH
X-WR-CALNAME:www.loftkoeln.de
X-ORIGINAL-URL:https://www.loftkoeln.de
X-WR-CALDESC:Veranstaltungen für www.loftkoeln.de
BEGIN:VTIMEZONE
TZID:UTC
BEGIN:STANDARD
TZOFFSETFROM:+0000
TZOFFSETTO:+0000
TZNAME:UTC
DTSTART:20140101T000000
END:STANDARD
END:VTIMEZONE
BEGIN:VEVENT
DTSTART;TZID=UTC:20140624T203000
DTEND;TZID=UTC:20140624T203000
DTSTAMP:20260422T112732
CREATED:20170322T132557Z
LAST-MODIFIED:20170322T132557Z
UID:4394-1403641800-1403641800@www.loftkoeln.de
SUMMARY:Diplomkonzert: Julian Büttner - Saxofon
DESCRIPTION:Julian Büttner – ts.\nLouis Stapleton – piano\n Stefan Schönegg – bass\nMoritz Baranczyk – dr. \n\nIm ersten Teil seines Abschlusskonzertes wird Julian Büttner in seinem Quartett zu hören sein\, mit eigenen Kompositionen und Stücken von Louis Stapleton. Diese Stücke bewegen sich im zeitgenössischen Jazz und versprechen ein abwechslungsreiches Programm. Den zweiten Teil spielt Julian nur zusammen mit Louis Stapleton. Diese Duo Besetzung gibt den beiden Musikern Freiraum für kommunikative Improvisation und spontane Neuinterpretationen von Jazz-Standards.
URL:https://www.loftkoeln.de/event/diplomkonzert-julian-buttner-saxofon/
END:VEVENT
END:VCALENDAR