BEGIN:VCALENDAR
VERSION:2.0
PRODID:-//www.loftkoeln.de - ECPv5.14.2.1//NONSGML v1.0//EN
CALSCALE:GREGORIAN
METHOD:PUBLISH
X-WR-CALNAME:www.loftkoeln.de
X-ORIGINAL-URL:https://www.loftkoeln.de
X-WR-CALDESC:Veranstaltungen für www.loftkoeln.de
BEGIN:VTIMEZONE
TZID:UTC
BEGIN:STANDARD
TZOFFSETFROM:+0000
TZOFFSETTO:+0000
TZNAME:UTC
DTSTART:20110101T000000
END:STANDARD
END:VTIMEZONE
BEGIN:VEVENT
DTSTART;TZID=UTC:20110314T203000
DTEND;TZID=UTC:20110314T203000
DTSTAMP:20260422T111440
CREATED:20171023T090318Z
LAST-MODIFIED:20171023T090318Z
UID:5856-1300134600-1300134600@www.loftkoeln.de
SUMMARY:Diplomkonzert Heiko Bidmon: Reeds
DESCRIPTION:bidmon trio:\nHeiko Bidmon – reeds\nStefan Berger – bass\nEtienne Nillesen – drums \n\nDrei Musiker der Kölner Untergrundmusik – winterfest und im 6. Gang bergab – bescheren mit ihrem hoch energetischen Sound den frühzeitigen „Summer in the City“. Eigenkompositionen\, inspiriert von der thailändischen Küche\, der Post- Coltrane-Ära und der persönlichen Vergangenheiten unserer Protagonisten\, freuen sich\, Ihre Ohren in den 7. Himmel Ecke Wissmannstraße zu beamen.
URL:https://www.loftkoeln.de/event/diplomkonzert-heiko-bidmon-reeds/
END:VEVENT
END:VCALENDAR