BEGIN:VCALENDAR
VERSION:2.0
PRODID:-//www.loftkoeln.de - ECPv5.14.2.1//NONSGML v1.0//EN
CALSCALE:GREGORIAN
METHOD:PUBLISH
X-WR-CALNAME:www.loftkoeln.de
X-ORIGINAL-URL:https://www.loftkoeln.de
X-WR-CALDESC:Veranstaltungen für www.loftkoeln.de
BEGIN:VTIMEZONE
TZID:UTC
BEGIN:STANDARD
TZOFFSETFROM:+0000
TZOFFSETTO:+0000
TZNAME:UTC
DTSTART:20040101T000000
END:STANDARD
END:VTIMEZONE
BEGIN:VEVENT
DTSTART;TZID=UTC:20040612T203000
DTEND;TZID=UTC:20040612T203000
DTSTAMP:20260421T124016
CREATED:20200418T110246Z
LAST-MODIFIED:20200418T110246Z
UID:14350-1087072200-1087072200@www.loftkoeln.de
SUMMARY:DIPLOMKONZERT FLORIAN WEBER - PIANO
DESCRIPTION:Trio Minsarah und Überraschungsgäste\nFlorian Weber – piano\nJeff Denson – bass\nZiv Ravitz – drums \n\nFlorian Weber hat 2001 den Steinway & Sons Preis in Montreux und vor wenigen Wochen den Gotrian-Steinweg-Preis in Weimar gewonnen.\nWährend seines Studiums in den USA am Berklee College of Music in Boston lernte er den Bassisten Jeff Denson (USA) und den Schlagzeuger Ziv Ravitz (Israel) kennen. Mit den beiden gründete er „Minsarah“\, das Debut-Album erschien 2003 beim Kölner Jazzlabel hubermusic.\nDas Trio „Minsarah“ wird im Juni für eine kleine Tournee zusammenkommen\, so dass der lang gehegte Wunsch\, mit dieser „Once-In-A-Lifetime-Band“\, das Examenskonzert bestreiten zu können\, in Erfüllung geht. \n„Minsarah kommunizierten konzentriert\, leicht\, selbstlos\, in druckvoller Intensität. Das Trio hat Energie. Niemand würde das bezweifeln. Dabei ging es oft mehr um improvisierte Musik\, als um Jazz\, der die Drei allerdings bindet\, bannt und fordert. Denn bei Weber\, der klassisch begann\, hört man die Liebe zur breiten Melodie\, zum europäischen Sphären-Jazz\, zur Intuition. Sein Lehrer John Taylor müsste über solch einen Auftritt die Worte verlieren. Die Band versteht sich ausdrücklich als Band\, jeder schreibt Songs\, niemand stört oder zerstört sie.
URL:https://www.loftkoeln.de/event/diplomkonzert-florian-weber-piano/
END:VEVENT
END:VCALENDAR