BEGIN:VCALENDAR
VERSION:2.0
PRODID:-//www.loftkoeln.de - ECPv5.14.2.1//NONSGML v1.0//EN
CALSCALE:GREGORIAN
METHOD:PUBLISH
X-WR-CALNAME:www.loftkoeln.de
X-ORIGINAL-URL:https://www.loftkoeln.de
X-WR-CALDESC:Veranstaltungen für www.loftkoeln.de
BEGIN:VTIMEZONE
TZID:UTC
BEGIN:STANDARD
TZOFFSETFROM:+0000
TZOFFSETTO:+0000
TZNAME:UTC
DTSTART:20040101T000000
END:STANDARD
END:VTIMEZONE
BEGIN:VEVENT
DTSTART;TZID=UTC:20040730T203000
DTEND;TZID=UTC:20040730T203000
DTSTAMP:20260425T130347
CREATED:20210526T073347Z
LAST-MODIFIED:20210526T073347Z
UID:17148-1091219400-1091219400@www.loftkoeln.de
SUMMARY:Diplomkonzert: Falk Griefenhagen
DESCRIPTION:Falk Grieffenhagen – sax\, live-electronik\nAndré Ndenza – bass\nTobias Hoffmann – guitar\nJoe Hertenstein – drums\nStefan Schultze – piano\, rhodes \n\nEigenkompositionen von F. Griefenhagen:\neine Mischung aus tonalen konventionelleren (schräge Balladen) und nichttonalen Stücken
URL:https://www.loftkoeln.de/event/diplomkonzert-falk-griefenhagen/
END:VEVENT
END:VCALENDAR