BEGIN:VCALENDAR
VERSION:2.0
PRODID:-//www.loftkoeln.de - ECPv5.14.2.1//NONSGML v1.0//EN
CALSCALE:GREGORIAN
METHOD:PUBLISH
X-WR-CALNAME:www.loftkoeln.de
X-ORIGINAL-URL:https://www.loftkoeln.de
X-WR-CALDESC:Veranstaltungen für www.loftkoeln.de
BEGIN:VTIMEZONE
TZID:UTC
BEGIN:STANDARD
TZOFFSETFROM:+0000
TZOFFSETTO:+0000
TZNAME:UTC
DTSTART:20070101T000000
END:STANDARD
END:VTIMEZONE
BEGIN:VEVENT
DTSTART;TZID=UTC:20070328T203000
DTEND;TZID=UTC:20070328T203000
DTSTAMP:20260423T022908
CREATED:20210526T074241Z
LAST-MODIFIED:20210526T074241Z
UID:17163-1175113800-1175113800@www.loftkoeln.de
SUMMARY:Diplomkonzert: Daniel Freundlieb
DESCRIPTION:GLOBAL TOURISTS \nMathias Mauersberger – Guitar\, Electronics\nEpaminondas Ladas – Bouzouki\, Guitar\, Electronics\nTobias Hoffmann – Guitar\, Electronics\nFrank Kampschroer – bass\nDaniel Freundlieb – Drums\, Percussion \n\n\nMusikalisches Neuland betreten – Grenzen erweitern. Auf diese Maximen bezieht sich der Name GLOBAL TOURISTS. So wie der Tourist ein unbekanntes Land bereist und durch neue Eindrücke und Lebensweisen bereichert wird\, so lassen sich in dieser Formation unterschiedlichste Einflüsse aufeinander ein und befruchten sich gegenseitig. Die fünf Kölner Musiker fanden sich im Herbst 2003 in dieser unkonventionellen Besetzung zusammen. Mit drei Gitarren\, unterstützt durch Kontrabass\, Schlagzeug und Percussion – in Verbindung mit Loops\, Samples und diversen elektronischen Sounds – formt diese Band einen ganz einzigartigen Klangkörper. Ein zentrales Stilmittel ist der Einsatz der griechischen Laute „Bouzouki“ durch den Gitarristen Epaminondas Ladas. Der gebürtige Grieche ist mit Bouzouki und traditioneller griechischer Rebetiko-Musik aufgewachsen\, und gibt mit diesem Einfluss eine der Marschrichtungen der Global Tourists vor. Neben Einflüssen aus Pop\, Funk\, Jazz\, Dance\, Weltmusik\, Electronic und sogar Country gehört auch traditionelles griechisches Liedgut zum Repertoire der Band. Die stilistische Offenheit der Musik\, Improvisation auf der Bühne und tanzbare Rhythmen lassen die GLOBAL TOURISTS zu einem einmaligen Live-Erlebnis werden. \nwww.globaltourists.de
URL:https://www.loftkoeln.de/event/diplomkonzert-daniel-freundlieb/
END:VEVENT
END:VCALENDAR