BEGIN:VCALENDAR
VERSION:2.0
PRODID:-//www.loftkoeln.de - ECPv5.14.2.1//NONSGML v1.0//EN
CALSCALE:GREGORIAN
METHOD:PUBLISH
X-WR-CALNAME:www.loftkoeln.de
X-ORIGINAL-URL:https://www.loftkoeln.de
X-WR-CALDESC:Veranstaltungen für www.loftkoeln.de
BEGIN:VTIMEZONE
TZID:Europe/Berlin
BEGIN:DAYLIGHT
TZOFFSETFROM:+0100
TZOFFSETTO:+0200
TZNAME:CEST
DTSTART:20040328T010000
END:DAYLIGHT
BEGIN:STANDARD
TZOFFSETFROM:+0200
TZOFFSETTO:+0100
TZNAME:CET
DTSTART:20041031T010000
END:STANDARD
END:VTIMEZONE
BEGIN:VEVENT
DTSTART;TZID=Europe/Berlin:20040922T203000
DTEND;TZID=Europe/Berlin:20040922T203000
DTSTAMP:20260423T042358
CREATED:20260331T095013Z
LAST-MODIFIED:20260331T095013Z
UID:32581-1095885000-1095885000@www.loftkoeln.de
SUMMARY:Diplomkonzert: Artem Brauer - Piano
DESCRIPTION:Artem Brauer – Piano \nNach dem Studium an der „russischen Akademie der Musik“ in Moskau\, entschloss sich Artem Brauer zur Erweiterung seiner Kenntnisse im Jazz und der eigenen Kreativität\, das Studium an der Musikhochschule in Köln zu absolvieren. Dort bekam er die Möglichkeit von Frank Wunsch mit einigen neuen Bereichen des Jazz vertraut gemacht zu werden. Sein musikalisches Interesse geht vom Mainstream-Jazz über Funk/Jazz mit elektronischen Elementen bis hin zum leichten Einfluss der Popmusik\, was bei seinem Konzert deutlich zu hören sein wird.
URL:https://www.loftkoeln.de/event/diplomkonzert-artem-brauer-piano/
END:VEVENT
END:VCALENDAR