BEGIN:VCALENDAR
VERSION:2.0
PRODID:-//www.loftkoeln.de - ECPv5.14.2.1//NONSGML v1.0//EN
CALSCALE:GREGORIAN
METHOD:PUBLISH
X-WR-CALNAME:www.loftkoeln.de
X-ORIGINAL-URL:https://www.loftkoeln.de
X-WR-CALDESC:Veranstaltungen für www.loftkoeln.de
BEGIN:VTIMEZONE
TZID:UTC
BEGIN:STANDARD
TZOFFSETFROM:+0000
TZOFFSETTO:+0000
TZNAME:UTC
DTSTART:20140101T000000
END:STANDARD
END:VTIMEZONE
BEGIN:VEVENT
DTSTART;TZID=UTC:20140714T203000
DTEND;TZID=UTC:20140714T203000
DTSTAMP:20260422T181959
CREATED:20170322T131924Z
LAST-MODIFIED:20170322T131924Z
UID:4403-1405369800-1405369800@www.loftkoeln.de
SUMMARY:Diplom Konzert Louis Stapelton: Louis Stapleton Trio
DESCRIPTION:Louis Stapleton – piano\, comp.\nOliver Lutz – bass\n Fabian Arends – drums \nplus special guests \n\nEin Modern Jazz Klavier Trio mit vielen traditionellen Elementen wie Improvisationen über einen festen Harmonieablauf und eine sich wiederholende Form. Die Stücke bedienen unterschiedliche Stile wie Balladen\, Jazzwaltz\, Swing\, schnellen Bop und freie Musik\, die bei jedem Auftritt neu entsteht aber auch Rock und Funk. So unterschiedlich unsere Kompositionen auch sind\, haben sie als gemeinsames Element den Kompositionsstil der der Band Wiedererkennungswert und einen besonderen\, authentischen Sound verleiht. So versucht man nicht nur die Kompositionen\, sondern auch die Improvisationen\, das Zusammenspiel\, spontane Einfälle und die aufkommende Energie des Moments in den Mittelpunkt zu stellen. Das Resultat ist Jazz voller Traditionen\, die die Musik aber nicht bremsen und altbacken wirken lassen\, sondern ein stabiles Fundament bilden\, um ein Spagat zwischen Tradition und Moderne zu schaffen.
URL:https://www.loftkoeln.de/event/diplom-konzert-louis-stapelton-louis-stapleton-trio/
END:VEVENT
END:VCALENDAR