BEGIN:VCALENDAR
VERSION:2.0
PRODID:-//www.loftkoeln.de - ECPv5.14.2.1//NONSGML v1.0//EN
CALSCALE:GREGORIAN
METHOD:PUBLISH
X-WR-CALNAME:www.loftkoeln.de
X-ORIGINAL-URL:https://www.loftkoeln.de
X-WR-CALDESC:Veranstaltungen für www.loftkoeln.de
BEGIN:VTIMEZONE
TZID:UTC
BEGIN:STANDARD
TZOFFSETFROM:+0000
TZOFFSETTO:+0000
TZNAME:UTC
DTSTART:20050101T000000
END:STANDARD
END:VTIMEZONE
BEGIN:VEVENT
DTSTART;TZID=UTC:20050616T203000
DTEND;TZID=UTC:20050616T203000
DTSTAMP:20260423T113612
CREATED:20200418T104414Z
LAST-MODIFIED:20200418T104414Z
UID:14334-1118953800-1118953800@www.loftkoeln.de
SUMMARY:DILPOMKONZERTE: Rainer Böhm - Klavier und Felix Fromm - Posaune
DESCRIPTION:„L 14\, 16“:\nAxel Schlosser – trpt\nSteffen Weber – saxes.\nRainer Böhm – piano\nArne Huber – bass\nLars Binder – drums \nEs kocht und brodelt\, „ihre großartige Platte ist Genuss pur“\, urteilte das Magazin Audio über das Debütalbum des Quintetts „L 14\,16\,“ das im August 2003 mit dem „Preis der deutschen Schallplattenkritik“ ausgezeichnet wurde. Im Jahr zuvor gewann die Band beim internationalen Jazzwettbewerb in Hoeilaart (Belgien).den 1.Preis.\nDas Jazzquintett besteht seit 1999. Stilistisch lässt sich die Band am ehesten unter der Kategorie „Moderner Hardbop” einordnen\, was dem Klangbild aber nur teilweise gerecht wird. Das Quintett spielt fast ausschließlich Eigenkompositionen. Das Jazzpodium frohlockte: „Locker\, variabel\, zielsicher und ohne verkopften Schnickschack kommen die fünf mit temporeichem Spielwitz auf den Punkt\, … und bringen Individualität und Geschlossenheit in guter Balance unter einen Hut.” \nDUO\nJohannes Enders – sax\nRainer Böhm – piano \n\nFelix Fromm Sextett\nFlorian Trübsbach – as\nSteffen Weber – ts\nFelix Fromm – trb.\nRainer Böhm – piano\nArne Huber – bass\nAndy Haberl – drums \nZeitgenössischer Moderner Jazz\, mit Anleihen aus drum *n bass. Nur original Kompositionen und Arrangments. \nEintritt 3.-€uro
URL:https://www.loftkoeln.de/event/dilpomkonzerte-rainer-boehm-klavier-und-felix-fromm-posaune/
END:VEVENT
END:VCALENDAR