BEGIN:VCALENDAR
VERSION:2.0
PRODID:-//www.loftkoeln.de - ECPv5.14.2.1//NONSGML v1.0//EN
CALSCALE:GREGORIAN
METHOD:PUBLISH
X-WR-CALNAME:www.loftkoeln.de
X-ORIGINAL-URL:https://www.loftkoeln.de
X-WR-CALDESC:Veranstaltungen für www.loftkoeln.de
BEGIN:VTIMEZONE
TZID:UTC
BEGIN:STANDARD
TZOFFSETFROM:+0000
TZOFFSETTO:+0000
TZNAME:UTC
DTSTART:20180101T000000
END:STANDARD
END:VTIMEZONE
BEGIN:VEVENT
DTSTART;TZID=UTC:20181102T203000
DTEND;TZID=UTC:20181102T203000
DTSTAMP:20260422T125358
CREATED:20180911T144640Z
LAST-MODIFIED:20180911T154220Z
UID:9617-1541190600-1541190600@www.loftkoeln.de
SUMMARY:Dierk Peters' Ambrosia
DESCRIPTION:Bastian Stein – Trompete\, Flügelhorn (Köln/Wien)\nStefan Karl Schmid – Klarinette\, Bassklarinette (Köln)\nLaurent Derache – Akkordeon (Paris)\nDierk Peters – Vibraphon (New York)\nDavid Helm – Bass (Köln)\nFabian Arends – Schlagzeug (Köln)\n\n \n\nMit seinem neuestem Projekt „Ambrosia“ versammelt der Bandleader und Vibraphonist Dierk  Peters fünf renommierte Instrumentalisten aus ganz Europa um sich\, die Ihm dabei helfen einen langjährigen Traum zu realisieren. Mit der Besetzung Trompete\, Klarinetten\, Akkordeon\, Vibraphon\, Bass und Schlagzeug kommen Vertreter sechs gänzlich unterschiedlicher Instrumentenfamilien zusammen\, wodurch sich eine riesige Palette an möglichen Mischklängen bietet. Diese zu erforschen und zu nutzen um die Grenzen zwischen Komposition und Improvisation zu verwischen ist das Ziel der Musik\, die Peters in den letzten drei Jahren in Köln und New York geschrieben hat.\nAus der groben Vision alle Instrumente in einer Band zusammen zu bringen\, die sich am schönsten mit dem Sound des Vibraphons verweben\, wird mit den einzigartigen und sensiblen Klangsprachen von Bastian Stein\, Stefan Karl Schmid\, Laurent Derache\, David Helm und Fabian Arends detaillierte\, farbenreiche und organische Realität.\nDie Musik für Ambrosia hat die Band im Herbst 2017 in Kooperation mit dem Deutschlandfunk in deren Studios in Köln aufgenommen\, die Kompositionen wurden gefördert vom Ministerium für Kultur des Landes Niedersachsen.\n  \nhttps://www.dierkpeters.de/
URL:https://www.loftkoeln.de/event/dierk-peters-ambrosia/
END:VEVENT
END:VCALENDAR