BEGIN:VCALENDAR
VERSION:2.0
PRODID:-//www.loftkoeln.de - ECPv5.14.2.1//NONSGML v1.0//EN
CALSCALE:GREGORIAN
METHOD:PUBLISH
X-WR-CALNAME:www.loftkoeln.de
X-ORIGINAL-URL:https://www.loftkoeln.de
X-WR-CALDESC:Veranstaltungen für www.loftkoeln.de
BEGIN:VTIMEZONE
TZID:UTC
BEGIN:STANDARD
TZOFFSETFROM:+0000
TZOFFSETTO:+0000
TZNAME:UTC
DTSTART:20170101T000000
END:STANDARD
END:VTIMEZONE
BEGIN:VEVENT
DTSTART;TZID=UTC:20170106T203000
DTEND;TZID=UTC:20170106T203000
DTSTAMP:20260424T104751
CREATED:20161201T093646Z
LAST-MODIFIED:20161229T082937Z
UID:2287-1483734600-1483734600@www.loftkoeln.de
SUMMARY:die kunst des trios - special - DREIKÖNIGSTREFF Hans Lüdemann Nu RISM
DESCRIPTION:Hans Lüdemann – piano & virtual piano\nRobert Landfermann – bass\nJonas Burgwinkel – drums \n\nZum Dreikönigstag finden sich drei wohlbekannte Kölner Musiker wieder zusammen zu einer „Reunion“. Dieses Trio startete 2007 im LOFT die „kunst des trios“ – Konzertreihe\, deren Aufnahmen später preisgekrönt wurden. Seither hat jeder der drei Musiker einen weiten musikalischen Weg zurückgelegt. Diese Wege haben sich gelegentlich wieder gekreuzt\, zuletzt bei einem Auftritt beim Winterjazz 2014 im Stadtgarten. Jedes Mal ist es spannend\, mit dem Abstand und der gewonnenen Erfahrung wieder frisch und wie neu ans Werk gehen zu können. So wird auch diesmal weniger ein Rückblick\, sondern neue Ideen\, Improvisationen und Kompositionen zu erwarten sein. Basis dafür ist die spezielle Konstellation\, in der rhythmische Komplexität und mikrotonale Elemente zu einem ganz speziellen Trio-Klang beitragen.
URL:https://www.loftkoeln.de/event/die-kunst-des-trios-special-dreikonigstreff-hans-ludemann-nu-rism/
END:VEVENT
END:VCALENDAR