BEGIN:VCALENDAR
VERSION:2.0
PRODID:-//www.loftkoeln.de - ECPv5.14.2.1//NONSGML v1.0//EN
CALSCALE:GREGORIAN
METHOD:PUBLISH
X-WR-CALNAME:www.loftkoeln.de
X-ORIGINAL-URL:https://www.loftkoeln.de
X-WR-CALDESC:Veranstaltungen für www.loftkoeln.de
BEGIN:VTIMEZONE
TZID:Europe/Berlin
BEGIN:DAYLIGHT
TZOFFSETFROM:+0100
TZOFFSETTO:+0200
TZNAME:CEST
DTSTART:20220327T010000
END:DAYLIGHT
BEGIN:STANDARD
TZOFFSETFROM:+0200
TZOFFSETTO:+0100
TZNAME:CET
DTSTART:20221030T010000
END:STANDARD
END:VTIMEZONE
BEGIN:VEVENT
DTSTART;TZID=Europe/Berlin:20220131T203000
DTEND;TZID=Europe/Berlin:20220131T203000
DTSTAMP:20260423T143434
CREATED:20211130T124421Z
LAST-MODIFIED:20220117T105627Z
UID:18791-1643661000-1643661000@www.loftkoeln.de
SUMMARY:DIE FICHTEN & Christian Lorenzen: Desmond’s Deep Time | live recording
DESCRIPTION:Leonhard Huhn – Saxophon\, Elektronik\nStefan Schönegg – Bass\nDominik Mahnig – Schlagzeug\, Elektronik\n+\nChristian Lorenzen – Piano\, Wurlitzer\, Synthesizer \nDas Konzert wird vor Publikum stattfinden\, weitere Informationen zu Konzerten während der Corona-Pandemie finden Sie hier\, Informationen zu den Preisen\, Karten-Reservierungen und den Öffnungszeiten hier.\nMit einem „famosen\, eigensinnigen\, komplexen und zugleich auch merkwürdigen“ (Frankfurter Rundschau) Bandsound besticht das Trio DIE FICHTEN des Saxophonisten Leonhard Huhn. Ihre Musik ist zärtlich und expressiv und bewegt sich zwischen Avantgarde Jazz und freier Improvisation. Mit dem Pianisten und Synthesizer-Spezialisten Christian Lorenzen haben sie nun zum ersten Mal mit einem Gast ein besonderes Konzertprogramm erarbeitet\, das an diesem Abend zur Uraufführung kommt. \nhttps://die-fichten.de/ \n„Über den Saxophonisten Paul Desmond entdeckte ich in jungen Jahren die Musik des Jazz. Sein Klang und Melodien haben sich in meine musikalische Seele gebrannt und sind zu etwas Neuem gewachsen. Seine Musik und Werke dienen mir als Inspirationen für neue Kompositionen\, die in dem Programm DEMONDs DEEP TIME münden. Ich transformiere so Desmonds Musik in eine heutige\, aktuelle musikalische Sprache und bringen zum Klingen\, was mir an ihm wichtig ist. Dafür konnte ich neben meinem Trio DIE FICHTEN mit Stefan Schönegg und Dominik Mahnig meinen Kollegen und Weggefährten Christian Lorenzen an den Synthesizern gewinnen.“\nLeonhard Huhn \n\nLeonhard Huhn – saxophone\, electronics\nStefan Schönegg – bass\nDominik Mahnig – drums\, electronics\n+\nChristian Lorenzen – piano\, Wurlitzer\, synthesizer\n \nPlease read our infos concerning concerts with an audience during the Corona pandemic here. Information about prices\, ticket reservations and our opening times can be found here. \nWith a „fabulous\, stubborn\, complex and at the same time strange“ (Frankfurter Rundschau) band sound\, the trio DIE FICHTEN of saxophonist Leonhard Huhn is captivating. Their music is tender and expressive and moves between avant-garde jazz and free improvisation. With the pianist and synthesizer specialist Christian Lorenzen they have now for the first time worked out a special concert program with a guest\, which will be premiered on this evening. \nhttps://die-fichten.de/ \n„Through the saxophonist Paul Desmond\, I discovered the music of jazz at a young age. His sound and melodies burned into my musical soul and grew into something new. His music and works serve as inspirations for new compositions for me\, resulting in DEMOND’s DEEP TIME program. In this way\, I transform DEMOND’s music into a contemporary musical language and bring to sound what is important to me about him. For this\, in addition to my trio DIE FICHTEN with Stefan Schönegg and Dominik Mahnig\, I was able to enlist my colleague and companion Christian Lorenzen on synthesizers.“\nLeonhard Huhn
URL:https://www.loftkoeln.de/event/die-fichten-christian-lorenzen-desmonds-deep-time/
END:VEVENT
END:VCALENDAR