BEGIN:VCALENDAR
VERSION:2.0
PRODID:-//www.loftkoeln.de - ECPv5.14.2.1//NONSGML v1.0//EN
CALSCALE:GREGORIAN
METHOD:PUBLISH
X-WR-CALNAME:www.loftkoeln.de
X-ORIGINAL-URL:https://www.loftkoeln.de
X-WR-CALDESC:Veranstaltungen für www.loftkoeln.de
BEGIN:VTIMEZONE
TZID:Europe/Berlin
BEGIN:DAYLIGHT
TZOFFSETFROM:+0100
TZOFFSETTO:+0200
TZNAME:CEST
DTSTART:20250330T010000
END:DAYLIGHT
BEGIN:STANDARD
TZOFFSETFROM:+0200
TZOFFSETTO:+0100
TZNAME:CET
DTSTART:20251026T010000
END:STANDARD
END:VTIMEZONE
BEGIN:VEVENT
DTSTART;TZID=Europe/Berlin:20251104T200000
DTEND;TZID=Europe/Berlin:20251104T200000
DTSTAMP:20260423T112656
CREATED:20250920T094546Z
LAST-MODIFIED:20251006T060207Z
UID:30942-1762286400-1762286400@www.loftkoeln.de
SUMMARY:Lukas DeRungs Quintet | Mitschnitt für den Deutschlandfunk
DESCRIPTION:Immy Churchill – Gesang\nKarim Saber – Gitarre\nLukas DeRungs – Piano & Komposition\nJan Dittmann – Bass\nJonas Esser – Schlagzeug \n\n(english: see below) \nWeitere Informationen zu den Preisen\, Karten-Reservierungen und den \n\nLukas DeRungs Quintet © Daniel Wetzel\nFür sein Debut-Album KOSMOS SUITE wurde Lukas DeRungs für den Deutschen Jazzpreis nominiert und mit dem Landesjazzpreis Baden-Württemberg ausgezeichnet. Sein neues\, zweites Album WAKE nimmt nun sein aktuelles Quintett in den Fokus: Die junge britische Sängerin Immy Churchill singt die neuen Songs\, deren Texte sie teilweise selbst geschrieben hat\, mit Leichtigkeit und starkem Ausdruck. Neben ihr bereichert der Londoner Gitarrist Karim Saber das Album mit seiner Virtuosität und seinem eigenen\, kraftvollen Sound. Der gebürtige Dortmunder Bassist Jan Dittmann und der mittlerweile in New York lebende Schlagzeuger Jonas Esser komplettieren die Band\, die auf der Bühne zu einem kompakten Klangkörper verschmilzt.\nLive zeigen die fünf\, dass sie alle hellwach sind – genau hinhören\, wahrnehmen\, miteinander kommunizieren. „In dem Moment\, in dem man Musik macht\, ergibt alles Sinn\, da sind keine Fragen – die gibt es nur davor und danach.“ Lukas DeRungs tritt hier als Bandleader auf\, der ein feines Gespür hat für Spannungsbögen\, für Dynamik und für die zwischenmenschlichen Verbindungen\, die es braucht\, damit eine Band harmoniert und damit aus einem Konzert ein besonderer Abend wird. Sein Klavierspiel bildet das Gerüst für eine Klangwelt\, in der jedes Bandmitglied improvisierend in Erscheinung tritt. Seine Kompositionen spiegeln Einflüsse von klassischer Chormusik\, Groove-Musik und zeitgenössischem Jazz aus Europa\, den USA und dem Nahen Osten. \n\n\nhttps://www.derungs.de/\n\n\n„Es kommt nicht so oft vor\, dass ein Jazz-Album auf ganzer Länge beeindruckt. Ohne Einschränkungen. Wake könnte also ein wahrer Weckruf fürs ganze Genre sein“\nMannheimer Morgen 27.2.25\n\n„zeigt sich [..] erneut DeRungs’ großes Talent als Klangchoreograf“\nRondo Magazin\, 22.3.25\n\n„a fascinating collection that repays repeated listening“\nJazzwise Magazine April 25\n\n\n\nKlingt so: \n\n\n\n\nImmy Churchill – voice\nKarim Saber – guitar\nLukas DeRungs – piano & composition\nJan Dittmann – bass\nJonas Esser – drums \nFurther information about prices\, ticket reservations and our opening times can be found here.\n\n\n\n\n\n\nLukas DeRungs was nominated for the German Jazz Award and won the Baden-Württemberg State Jazz Award for his debut album KOSMOS SUITE. His new\, second album WAKE now focuses on his current quintet: young British singer Immy Churchill sings the new songs\, some of which she wrote herself\, with ease and powerful expression. Alongside her\, London guitarist Karim Saber enriches the album with his virtuosity and his own powerful sound. Dortmund-born bassist Jan Dittmann and drummer Jonas Esser\, who now lives in New York\, complete the band\, which merges into a compact ensemble on stage.\nLive\, the five show that they are all wide awake—listening closely\, perceiving\, communicating with each other. “The moment you make music\, everything makes sense\, there are no questions – those only exist before and after.” Lukas DeRungs acts as bandleader here\, with a keen sense for dramatic tension\, dynamics\, and the interpersonal connections needed for a band to harmonize and turn a concert into a special evening. His piano playing forms the framework for a soundscape in which each band member improvises. His compositions reflect influences from classical choral music\, groove music\, and contemporary jazz from Europe\, the US\, and the Middle East. \n\n\nhttps://www.derungs.de/\n\n\n“It’s not often that a jazz album impresses throughout its entire length. Without reservations. Wake could therefore be a real wake-up call for the entire genre.”\nMannheimer Morgen 27.2.25\n\n“DeRungs‘ great talent as a sound choreographer is once again evident.”\nRondo Magazin\, 22.3.25\n\n„a fascinating collection that repays repeated listening“\nJazzwise Magazine April 25
URL:https://www.loftkoeln.de/event/derungs-quintet-mitschnitt-fuer-den-deutschlandfunk/
END:VEVENT
END:VCALENDAR