BEGIN:VCALENDAR
VERSION:2.0
PRODID:-//www.loftkoeln.de - ECPv5.14.2.1//NONSGML v1.0//EN
CALSCALE:GREGORIAN
METHOD:PUBLISH
X-WR-CALNAME:www.loftkoeln.de
X-ORIGINAL-URL:https://www.loftkoeln.de
X-WR-CALDESC:Veranstaltungen für www.loftkoeln.de
BEGIN:VTIMEZONE
TZID:UTC
BEGIN:STANDARD
TZOFFSETFROM:+0000
TZOFFSETTO:+0000
TZNAME:UTC
DTSTART:20090101T000000
END:STANDARD
END:VTIMEZONE
BEGIN:VEVENT
DTSTART;TZID=UTC:20091114T203000
DTEND;TZID=UTC:20091114T203000
DTSTAMP:20260422T180707
CREATED:20171031T104033Z
LAST-MODIFIED:20171031T104033Z
UID:6254-1258230600-1258230600@www.loftkoeln.de
SUMMARY:DEEP SCHROTT - Das einzige Bass-Saxophon-Quartett des Universums
DESCRIPTION:Wollie Kaiser – Andreas Kaling – Jan Klare und Dirk Raulf – Bass-Saxophon \n\nDas 2008 von Dirk Raulf ins Leben gerufene Ensemble DEEP SCHROTT darf für sich ein „Alleinstellungsmerkmal“ beanspruchen: DEEP SCHROTT ist das erste und einzige Bass-Saxophon-Quartett der Welt\, der Geschichte\, nein: DES UNIVERSUMS. Vier deutsche Musiker\, die sich national wie international einen Namen als Instrumentalisten und Komponisten gemacht haben\, widmen sich hier ausschließlich den klanglichen Möglichkeiten dieses „wahren Behemots von Saxofon“ (Eugen Egner). Entsprechend fallen die Reaktionen aus: Verblüffung\, Staunen\, Begeisterung. Auf den einschlägigen Online-Plattformen ist Deep Schrott schon ein kleiner Hit\, in internationalen Saxophon-Foren wird das einmalige Projekt diskutiert. DEEP SCHROTT ist einerseits buchstäblich Heavy Metal\, eine klingende „Raffinerie“ (Frank Köllges)\, ein futuristisch anmutender\, ächzender\, schnaubender\, schnarchender\, knarzender Doo- Wop- Blechhaufen\, der einem Überseehafen Konkurrenz machen kann. Andererseits ein technisch virtuoses\, subtiles\, hochsensibles\, am Rand der Stille operierendes Ensemble\, das vom Luft- und Klappengeräusch bis zu extremen Obertönen alle Möglichkeiten des scheinbar so limitierten Instrumentes ausschöpft. Neben eigenen Kompositionen bearbeiten DEEP SCHROTT mit Vorliebe Klassiker aus Rock und Pop: Led Zeppelin\, die Beatles\, Fleetwood Mac\, die Rolling Stones\, King Crimson\, Slipknot oder Kylie Minogue in Versionen für 4 Bass-Saxophone. Als Inspirationsquelle und Assoziationspunkt des musikalischen Materials von DEEP SCHROTT dient denn auch – neben Strukturen und Parametern aus Jazz\, Improvisierter Musik oder Neuer Kammermusik – immer wieder das Rockgenre. Mit Vorliebe lässt man sich von härteren Spielarten zwischen Grunge\, Heavy Metal\, Thrash Metal oder Punk inspirieren. Brachiale Riffs\, tonnenschwere Grooves\, aggressive Improvisationen – und daneben leichtfüßige Melodien\, feinsinnig gewebte Klangspektren und humorvolle Zitate: Dies alles ist neu\, überraschend\, einzigartig\, skurril und überwältigend. \nEs ist DEEP SCHROTT.
URL:https://www.loftkoeln.de/event/deep-schrott-das-einzige-bass-saxophon-quartett-des-universums/
END:VEVENT
END:VCALENDAR