BEGIN:VCALENDAR
VERSION:2.0
PRODID:-//www.loftkoeln.de - ECPv5.14.2.1//NONSGML v1.0//EN
CALSCALE:GREGORIAN
METHOD:PUBLISH
X-WR-CALNAME:www.loftkoeln.de
X-ORIGINAL-URL:https://www.loftkoeln.de
X-WR-CALDESC:Veranstaltungen für www.loftkoeln.de
BEGIN:VTIMEZONE
TZID:UTC
BEGIN:STANDARD
TZOFFSETFROM:+0000
TZOFFSETTO:+0000
TZNAME:UTC
DTSTART:20200101T000000
END:STANDARD
END:VTIMEZONE
BEGIN:VEVENT
DTSTART;TZID=UTC:20201116T203000
DTEND;TZID=UTC:20201116T203000
DTSTAMP:20260424T121733
CREATED:20201004T070051Z
LAST-MODIFIED:20201116T141442Z
UID:15447-1605558600-1605558600@www.loftkoeln.de
SUMMARY:Livestream aus dem LOFT: DEBACKER HÜBSCH JAVAID
DESCRIPTION:Marlies Debacker – Piano\, präpariertes Piano\nSalim Javaid – Saxophon\nCarl Ludwig Hübsch – Tuba \n\nenglish version: see below \ndirekt zum livestream \nSie sehen diesen livestream kostenlos über Youtube\, wir freuen uns natürlich sehr\, wenn Sie den Musiker*innen einen „Eintritt“ zu diesem Konzert zukommen lassen\, Details dazu im Konzertabend im Infotext den livestreams auf YouTube. \nzum LOFT-YouTube-Kanal \n  \n\nS. Javaid © Nico Herzog ; M. Debacker © Andre Symann\nDiese Namen sollte man sich merken: Marlies Debacker und Salim Javaid. Die belgische Pianistin und der Saxophonist mit tschechisch-pakistanischen Wurzeln sind zwei ausgeprägte Persönlichkeiten der jungen Generation der improvisierten und Neuen Musik Kölns.\nIm Trio spielen sie mit dem Tubisten Carl Ludwig Hübsch\, Initiator zahlreicher hochkarätiger Improvisations-Projekte\, wie z.B. Ensemble X\, Duo Hübsch Minton\, Hübsch Martel Zoubek\, Multiple Joy[ce] Orchestra und mehr. \nhttps://marliesdebacker.com/ \nhttps://salimjavaid.com/ \nhttp://www.huebsch.me/ \nDie Musik des Trios ist klanglich präzise ausgehörte Interaktion. Scheinbar vielfältige Ansätze werden von einem konsequenten\, bis auf den kleinsten Moment fokussierenden Spiel getragen. Erweiterte Spieltechniken\, „normale Klänge“\, scheinbar Banales oder auch Virtuoses findet in diesem Universum vorurteilslos seinen Platz. Die Form entsteht von selbst\, zusammengehalten vom reichhaltigen Hörschatz der drei Protagonist*innen.\nDiese Vielfalt hat hat System: als Veranstalter*innen und „Hausband“ der Kölner Improvisationsreihe Plattform Nicht Dokumentierbarer Ereignisse treffen die drei seit Jahren auf verschiedenste Vertreter*innen der abstrakten Improvisation.
URL:https://www.loftkoeln.de/event/debacker-huebsch-javaid/
END:VEVENT
END:VCALENDAR