BEGIN:VCALENDAR
VERSION:2.0
PRODID:-//www.loftkoeln.de - ECPv5.14.2.1//NONSGML v1.0//EN
CALSCALE:GREGORIAN
METHOD:PUBLISH
X-WR-CALNAME:www.loftkoeln.de
X-ORIGINAL-URL:https://www.loftkoeln.de
X-WR-CALDESC:Veranstaltungen für www.loftkoeln.de
BEGIN:VTIMEZONE
TZID:Europe/Berlin
BEGIN:DAYLIGHT
TZOFFSETFROM:+0100
TZOFFSETTO:+0200
TZNAME:CEST
DTSTART:20230326T010000
END:DAYLIGHT
BEGIN:STANDARD
TZOFFSETFROM:+0200
TZOFFSETTO:+0100
TZNAME:CET
DTSTART:20231029T010000
END:STANDARD
END:VTIMEZONE
BEGIN:VEVENT
DTSTART;TZID=Europe/Berlin:20230304T203000
DTEND;TZID=Europe/Berlin:20230304T203000
DTSTAMP:20260420T084004
CREATED:20230127T124332Z
LAST-MODIFIED:20230207T130606Z
UID:22822-1677961800-1677961800@www.loftkoeln.de
SUMMARY:Daniel Tamayo Quintet
DESCRIPTION:Daniel Tamayo Gomez – Gitarre & Komposition\nYaroslav Likhachev – Tenorsaxophone\nMoritz Preisler – Piano\nConrad Noll – Bass\nSimon Bräumer – Schlagzeug\n  \n\n(english: see below) \nInformationen zu den Preisen\, Karten-Reservierungen und den Öffnungszeiten finden Sie hier.\n\n\n© Predrag Veselinovic\nDas Daniel Tamayo Quintet bietet eine Musik voller Textur\, die freie Improvisation und Jazztradition in Verbindung mit elektroakustischen Klanglandschaften erforscht. \n„Letztes Jahr haben wir mit dem Gastkünstler Víctor Acevedo zusammengearbeitet und uns auf die symbiotische Beziehung des akustischen Ensembles mit elektronischen Elementen und vorkomponierten Samples konzentriert.  \n\nWir präsentieren einige der Musik\, die aus dieser Zusammenarbeit entstanden ist\, zusammen mit neuen Stücken die letztes Jahr aufgenommen wurden und in den folgenden Monaten veröffentlicht werden. „\nDaniel Tamayo\n\nhttps://daniel-tamayo.com/\n\n\n\n\n\n\n  \nGefördert von:\n \n\nDaniel Tamayo Gomez – guitar & composition\nYaroslav Likhachev – tenore saxophone\nMoritz Preisler – piano\nConrad Noll – bass\nSimon Bräumer – drums \nInformation about prices\, ticket reservations and our opening times can be found here. \nThe Daniel Tamayo Quintet offers music full of texture that explores free improvisation and jazz tradition in conjunction with electroacoustic soundscapes. \n„Last year we collaborated with guest artist Víctor Acevedo\, focusing on the symbiotic relationship of the acoustic ensemble with electronic elements and pre-composed samples. \nWe present some of the music that came out of this collaboration\, along with new pieces recorded last year that will be released in the following months. „\nDaniel Tamayo
URL:https://www.loftkoeln.de/event/daniel-tamayo-quintet-3/
END:VEVENT
END:VCALENDAR