BEGIN:VCALENDAR
VERSION:2.0
PRODID:-//www.loftkoeln.de - ECPv5.14.2.1//NONSGML v1.0//EN
CALSCALE:GREGORIAN
METHOD:PUBLISH
X-WR-CALNAME:www.loftkoeln.de
X-ORIGINAL-URL:https://www.loftkoeln.de
X-WR-CALDESC:Veranstaltungen für www.loftkoeln.de
BEGIN:VTIMEZONE
TZID:Europe/Berlin
BEGIN:DAYLIGHT
TZOFFSETFROM:+0100
TZOFFSETTO:+0200
TZNAME:CEST
DTSTART:20220327T010000
END:DAYLIGHT
BEGIN:STANDARD
TZOFFSETFROM:+0200
TZOFFSETTO:+0100
TZNAME:CET
DTSTART:20221030T010000
END:STANDARD
END:VTIMEZONE
BEGIN:VEVENT
DTSTART;TZID=Europe/Berlin:20220109T180000
DTEND;TZID=Europe/Berlin:20220109T180000
DTSTAMP:20260422T112531
CREATED:20211130T101540Z
LAST-MODIFIED:20211206T110554Z
UID:18748-1641751200-1641751200@www.loftkoeln.de
SUMMARY:Daniel García - Piano Solo
DESCRIPTION: Daniel García – Piano\, Gesang\n \n\nDas Konzert wird vor Publikum stattfinden\, weitere Informationen zu Konzerten während der Corona-Pandemie finden Sie hier\, Informationen zu den Preisen\, Karten-Reservierungen und den Öffnungszeiten hier.\n© Diego García\nDaniel García – Der Erbe von Salamanca \nSchon mit den ersten Takten tauchen Bilder vor dem geistigen Auge auf:  von hohen\, im Schatten liegenden Barockbauten\, von Priesterschülern\, die in ihren wallenden Gewändern die Calle Compafiia in Salamanca ent­langflanieren. Daniel García Geburtsstadt galt ehedem als eine der wichtigsten Stationen auf der Via de la Plata\, der Silberstraße\, einer römischen Route vom Norden in den Süden der Iberischen Halbinsel. Eine Hauptschlagader\, die Menschen und Kulturen zusammenbrachte\, in der keltische und nordische Einflüsse\, der östliche Mittelmeerraum\, Afrika\, aber auch Amerika ineinanderfließen. Für den Pianisten García geschieht dies bis heute. \nDer 37-Jährige veröffentlicht deshalb nach seinem bemerkenswerten Debüt Travesuras von 2019 mit Via de la Plata (ACT/edel) eine Art Fortsetzungsroman\, der die multikulturelle Ausnahmestellung seines Heimat­landes in zehn farbigen Titeln spiegelt. \,\,Du solltest die Musik machen\, die du innerlich fühlst“\, beschreibt Daniel García sein künstlerisches Leitmotiv\, das ihm sein Lehrer Danilo Perez am Berklee College mit auf den Karriereweg gab. \,\,Das ist nicht nur das\, was du machst\, das bist du!“\n[…]\nWeit mehr als bloß Flamenco und Jazz! \nReinhard Köchl / Jazz thing 11/21-01/22\n \nDaniel García wird wird im LOFT „solo“ zu hören sein. \n\nDaniel García – piano & voice\n \nPlease read our infos concerning concerts with an audience during the Corona pandemic here. Information about prices\, ticket reservations and our opening times can be found here. \nDaniel García – The Heir of Salamanca \nFrom the very first bars\, images appear in the mind’s eye: of tall baroque buildings lying in the shade\, of priestly students strolling along the Calle Compafiia in Salamanca in their flowing robes. Daniel García’s native city was once considered one of the most important stops on the Via de la Plata\, the Silver Road\, a Roman route from the north to the south of the Iberian Peninsula. A main artery that brought together people and cultures\, where Celtic and Nordic influences\, the Eastern Mediterranean\, Africa\, but also America flowed into each other. For the pianist García\, this continues to happen today. \nTherefore\, after his remarkable debut „Travesuras“ from 2019\, the 37-year-old publishes „Via de la Plata“ (ACT/edel)\, a kind of sequel novel that reflects the multicultural exceptionalism of his home country in ten colorful titles. You should make the music that you feel inside\,“ is how Daniel García describes his artistic leitmotif\, which his teacher Danilo Perez at Berklee College gave him on his career path. „It’s not just what you do\, it’s who you are!“\n[…]\nMuch more than just flamenco and jazz! \nReinhard Köchl / Jazz thing 11/21-01/22 \nDaniel García will be heard „solo“ at the LOFT. \n 
URL:https://www.loftkoeln.de/event/daniel-garcia-piano-solo/
END:VEVENT
END:VCALENDAR