BEGIN:VCALENDAR
VERSION:2.0
PRODID:-//www.loftkoeln.de - ECPv5.14.2.1//NONSGML v1.0//EN
CALSCALE:GREGORIAN
METHOD:PUBLISH
X-WR-CALNAME:www.loftkoeln.de
X-ORIGINAL-URL:https://www.loftkoeln.de
X-WR-CALDESC:Veranstaltungen für www.loftkoeln.de
BEGIN:VTIMEZONE
TZID:UTC
BEGIN:STANDARD
TZOFFSETFROM:+0000
TZOFFSETTO:+0000
TZNAME:UTC
DTSTART:20130101T000000
END:STANDARD
END:VTIMEZONE
BEGIN:VEVENT
DTSTART;TZID=UTC:20131119T203000
DTEND;TZID=UTC:20131119T203000
DTSTAMP:20260425T140719
CREATED:20170405T104609Z
LAST-MODIFIED:20170405T104609Z
UID:4594-1384893000-1384893000@www.loftkoeln.de
SUMMARY:COSMOPILOT – „unterwegs“
DESCRIPTION:Elke Reiff – voc.\nJens Böckamp – sax. cl.\nKai Starke – guit.\nSebastian Räther – bass\nOliver Rehmann – drums \n\nDas Quintett COSMOPILOT erzählt vom Reisen und all seinen Facetten: zu Wasser\, zu Land\, in der Luft\, im virtuellen Raum\, vom Heimweh\, vom Ankommen und Weglaufen\, oder davon\, dass man aus Angst vor der großen weiten Welt gar nicht erst losreist. Reisen verändert: den Blickwinkel\, das Zeitgefühl und möglicherweise den Reisenden. Popsongs\, Jazzbearbeitungen und Filmmusik sind das Programm
URL:https://www.loftkoeln.de/event/cosmopilot-%e2%80%93-%e2%80%9eunterwegs%e2%80%9c/
END:VEVENT
END:VCALENDAR