BEGIN:VCALENDAR
VERSION:2.0
PRODID:-//www.loftkoeln.de - ECPv5.14.2.1//NONSGML v1.0//EN
CALSCALE:GREGORIAN
METHOD:PUBLISH
X-WR-CALNAME:www.loftkoeln.de
X-ORIGINAL-URL:https://www.loftkoeln.de
X-WR-CALDESC:Veranstaltungen für www.loftkoeln.de
BEGIN:VTIMEZONE
TZID:Europe/Berlin
BEGIN:DAYLIGHT
TZOFFSETFROM:+0100
TZOFFSETTO:+0200
TZNAME:CEST
DTSTART:20210328T010000
END:DAYLIGHT
BEGIN:STANDARD
TZOFFSETFROM:+0200
TZOFFSETTO:+0100
TZNAME:CET
DTSTART:20211031T010000
END:STANDARD
END:VTIMEZONE
BEGIN:VEVENT
DTSTART;TZID=Europe/Berlin:20211222T203000
DTEND;TZID=Europe/Berlin:20211222T203000
DTSTAMP:20260422T112350
CREATED:20211027T103445Z
LAST-MODIFIED:20211220T092235Z
UID:18572-1640205000-1640205000@www.loftkoeln.de
SUMMARY:Colonel Petrov’s Good Judgement
DESCRIPTION:Sebastian Müller – Gitarre\nLeonhard Huhn – Saxophon & Elektronik\nReza Askari – Bass\nRafael Calman – Schlagzeug \n\nWICHTIG: bei dem Konzert gilt die 2G+(plus)Regel – Maskenfplicht während des gesamten Konzertes.\nDas Konzert wird vor Publikum stattfinden\, weitere Informationen zu Konzerten während der Corona-Pandemie finden Sie hier\, Informationen zu den Preisen\, Karten-Reservierungen und den Öffnungszeiten hier.\nCOLONEL PETROV’S GOOD JUDGEMENT – die Band gründete sich anlässlich des Konzertexamens von Gitarrist Sebastian Müller am 28. Oktober 2008 im LOFT\, der Name steht für den eigenen Weg\, das Nicht-Befolgen von Konventionen und Normen. So hat auch der besagte Oberst Stanislaw Petrov im Jahre 1983 durch sein Nicht – Befolgen der offiziellen Regeln im Falle eines Raketenalarms\, einen vermeintlichen Atomangriff auf die Sowjetunion als Fehlalarm entlarvt und somit das Schlimmste verhindert.\nNatürlich geht es dem Quartett um den Gitarristen und Komponisten Sebastian Müller nicht darum\, die Welt zu retten\, sondern vielmehr um einen neuen Weg der Verschmelzung von verschiedenen musikalischen Einflüssen. Die Musik der Band ist dabei einem kontinuierlichen Entwicklungsprozess unterworfen\, der den Bogen vom Jazz hin zu Heavy-Rocksounds spannt\, dabei jedoch keinen vorgegebenen Formeln folgt und darüber hinaus noch offen für weitere Einflüsse bleibt. Dabei steht meist das Spiel mit metrischen Strukturen im Vordergrund.\nDie Band hat gerade ihr neues Album Hypomaniac aufgenommen\, welches sie an diesem Abend vorstellen wird. \nhttps://colonelpetrovsgoodjudgement.bandcamp.com/ \nGefördert von:\n \n\nSebastian Müller – guitar\nLeonhard Huhn – saxophone & electronics\nReza Askari – bass\nRafael Calman – drums\n \nIMPORTANT NOTE: 2Gplus\, mouse/nose covering mandatory\nPlease read our infos concerning concerts with an audience during the Corona pandemic here. Information about prices\, ticket reservations and our opening times can be found here. \nCOLONEL PETROV’S GOOD JUDGEMENT – the band was founded on the occasion of guitarist Sebastian Müller’s diploma concert at the LOFT on 28 October 2008. The name stands for the band’s own path\, the non-observance of conventions and norms. Thus\, in 1983\, the aforementioned Colonel Stanislaw Petrov\, by not following the official rules in the case of a missile alarm\, exposed a supposed nuclear attack on the Soviet Union as a false alarm and thus prevented the worst.\nOf course\, the quartet around guitarist and composer Sebastian Müller is not interested in saving the world\, but rather in finding a new way of merging different musical influences. The band’s music is subject to a continuous development process that spans from jazz to heavy rock sounds\, but does not follow any predefined formulas and remains open to further influences. The play with metric structures is usually in the foreground.\nThe band has just recorded their new album Hypomaniac\, which they will present this evening.
URL:https://www.loftkoeln.de/event/colonel-petrovs-good-judgement/
END:VEVENT
END:VCALENDAR