BEGIN:VCALENDAR
VERSION:2.0
PRODID:-//www.loftkoeln.de - ECPv5.14.2.1//NONSGML v1.0//EN
CALSCALE:GREGORIAN
METHOD:PUBLISH
X-WR-CALNAME:www.loftkoeln.de
X-ORIGINAL-URL:https://www.loftkoeln.de
X-WR-CALDESC:Veranstaltungen für www.loftkoeln.de
BEGIN:VTIMEZONE
TZID:UTC
BEGIN:STANDARD
TZOFFSETFROM:+0000
TZOFFSETTO:+0000
TZNAME:UTC
DTSTART:20200101T000000
END:STANDARD
END:VTIMEZONE
BEGIN:VEVENT
DTSTART;TZID=UTC:20200202T180000
DTEND;TZID=UTC:20200202T180000
DTSTAMP:20260423T164518
CREATED:20191220T065634Z
LAST-MODIFIED:20191229T184016Z
UID:13188-1580666400-1580666400@www.loftkoeln.de
SUMMARY:Cologne String Big Band feat. Yaniel Matos
DESCRIPTION:Yaniel Matos – Cello\, Piano\, Stimme\nStreicher Bigband der Hochschule für Musik und Tanz Köln\nLeitung: Gunther Tiedemann \n\n„Yaniel Matos can raise the listener’s mind to a higher dimension of pleasure\, a context located well away from our ultra coded mental cages“\nEnzo Pavoni\, Jazz Magazine\, Italien \nGunther Tiedemann und der in São Paulo lebende Kubaner Yaniel Matos haben sich 2017 beim 23rd New Directions Cello Festival in Ithaca/New York kennengelernt und sofort eine gegenseitige persönliche und musikalische Sympathie erlebt\, die 2019 in der Duo-Zusammenarbeit beim 25. Rio Cello Festival in Rio de Janeiro mündete. 2020 steht Yaniel Matos mit der Cologne String Big Band – der Streicher Bigband der Hochschule für Musik und Tanz Köln – auf der Bühne. Lateinamerikanische „Folklore“ mit teils afrikanischen Wurzeln und Jazz-Background kombinieren sich in Yaniels Kompositionen und Arrangements kubanischer und brasilianischer Klassiker.\nDie Streicher Bigband der HfMT spielte bereits Konzerte mit Markus Stockhausen\, Stephen Katz (USA)\, Ernst Reijseger (NL)\, Roger Hanschel\, Chris Haigh (GB)\, Rupert Gillett (GB)\, David Plate\, The Gust (NL) und Lychee Lassi. \nEintritt: 6\,- € \nwww.hfmt-koeln.de \nwww.yanielmatos.weebly.com \nwww.gunther-tiedemann.de
URL:https://www.loftkoeln.de/event/cologne-string-big-band-feat-yaniel-matos/
END:VEVENT
END:VCALENDAR