BEGIN:VCALENDAR
VERSION:2.0
PRODID:-//www.loftkoeln.de - ECPv5.14.2.1//NONSGML v1.0//EN
CALSCALE:GREGORIAN
METHOD:PUBLISH
X-WR-CALNAME:www.loftkoeln.de
X-ORIGINAL-URL:https://www.loftkoeln.de
X-WR-CALDESC:Veranstaltungen für www.loftkoeln.de
BEGIN:VTIMEZONE
TZID:Europe/Berlin
BEGIN:DAYLIGHT
TZOFFSETFROM:+0100
TZOFFSETTO:+0200
TZNAME:CEST
DTSTART:20220327T010000
END:DAYLIGHT
BEGIN:STANDARD
TZOFFSETFROM:+0200
TZOFFSETTO:+0100
TZNAME:CET
DTSTART:20221030T010000
END:STANDARD
END:VTIMEZONE
BEGIN:VEVENT
DTSTART;TZID=Europe/Berlin:20220818T200000
DTEND;TZID=Europe/Berlin:20220818T200000
DTSTAMP:20260422T182312
CREATED:20220621T084439Z
LAST-MODIFIED:20220818T071655Z
UID:21043-1660852800-1660852800@www.loftkoeln.de
SUMMARY:Cologne Jazzweek | Tomeka Reid · Angelika Niescier · Savannah Harris | live recording & livestream | AUSVERKAUFT
DESCRIPTION:das Konzert ist ausverkauft!\nDie Klimaanlage läuft bis kurz vor Konzertbeginn\n\nDas LOFT öffnet ca. 45min vor Konzertbeginn.\nDas Konzert wird zusätzlich kostenlos per livestream übertragen.\ndirekt zum livestream:\n\n\n  \n  \nTomeka Reid – Cello\nAngelika Niescier – Saxophon\nSavannah Harris – Schlagzeug \n\nDieses Trio mit der Kölner Saxofonistin Angelika Niescier und den beiden Amerikanerinnen\, der Schlagzeugerin Savannah Harris und der Cellistin Tomeka Reid\, ist ganz auf eine jazzmusikalischen Avantgarde fokussiert. Ist Reid aktuell die Improviser In Residence der Stadt Moers\, so war Niescier 2008 als erste Musikerin überhaupt in dieser Funktion zu erleben\, während die junge Harris in diesem Jahr Focus Artist der Cologne Jazzweek ist. Niescier hat für sich und ihre beiden Mitmusikerinnen einige Stücke komponiert\, die so angelegt sind\, dass diese erst im freien Spiel der improvisatorischen Kräfte Gestalt und Form bekommen. \nhttps://www.tomekareid.net/ \nhttps://www.angelika-niescier.de/ \n\nhier geht es zum vollständigen Programm\n\nthe concert is sold out \nthe concert hall is air-conditioned just until the concert starts\n\nThe LOFT opens approx. 45min prio to showtime.\n\nThe concert will also be livestreamed \ntake me directly to the livestream:\n\n\n  \n\nTomeka Reid – cello\nAngelika Niescier – saxophone\nSavannah Harris – drums \nThis trio with Cologne saxophonist Angelika Niescier and the two Americans\, drummer Savannah Harris and cellist Tomeka Reid\, is entirely focused on a jazz avant-garde. If Reid is currently the Improviser In Residence of the city of Moers\, Niescier was the first musician ever to perform in this capacity in 2008\, while the young Harris is this year’s Focus Artist of the Cologne Jazzweek. Niescier has composed a number of pieces for herself and her two fellow musicians\, which are designed in such a way that they only take shape and form in the free play of improvisational forces. \nhttps://www.tomekareid.net/ \nhttps://www.angelika-niescier.de/ \n\ncheck out the full program here\n  \n\nCologne Jazzweek – gefördert von:\n      \nÜbersicht der Sponsoren und Medienpartner auf\nhttps://jazzweek.de/
URL:https://www.loftkoeln.de/event/cologne-jazzweek-tomeka-reid-%c2%b7-angelika-niescier-%c2%b7-savannah-harris/
END:VEVENT
END:VCALENDAR