BEGIN:VCALENDAR
VERSION:2.0
PRODID:-//www.loftkoeln.de - ECPv5.14.2.1//NONSGML v1.0//EN
CALSCALE:GREGORIAN
METHOD:PUBLISH
X-WR-CALNAME:www.loftkoeln.de
X-ORIGINAL-URL:https://www.loftkoeln.de
X-WR-CALDESC:Veranstaltungen für www.loftkoeln.de
BEGIN:VTIMEZONE
TZID:Europe/Berlin
BEGIN:DAYLIGHT
TZOFFSETFROM:+0100
TZOFFSETTO:+0200
TZNAME:CEST
DTSTART:20220327T010000
END:DAYLIGHT
BEGIN:STANDARD
TZOFFSETFROM:+0200
TZOFFSETTO:+0100
TZNAME:CET
DTSTART:20221030T010000
END:STANDARD
END:VTIMEZONE
BEGIN:VEVENT
DTSTART;TZID=Europe/Berlin:20220816T200000
DTEND;TZID=Europe/Berlin:20220816T200000
DTSTAMP:20260425T125142
CREATED:20220620T161422Z
LAST-MODIFIED:20220927T120723Z
UID:21023-1660680000-1660680000@www.loftkoeln.de
SUMMARY:Cologne Jazzweek | Savannah Harris Trio | Mitschnitt für den Deutschlandfunk | livestream
DESCRIPTION:Karten: 20€ / 14€\nhier im Vorverkauf\nTickets auch an der Abendkasse erhältlich (nach Verfügbarkeit)\nBei hochsommerlichen Temperaturen ist der Konzertsaal klimatisiert!\nDas LOFT öffnet ca. 45min vor Konzertbeginn.\nJeremy Corren – Piano\nOr Bareket – Bass\nSavannah Harris – Schlagzeug\n \nSavannah Harris wurde 1993 geboren und wuchs in Oakland\, Kalifornien auf\, wo sie auch ihren ersten Schlagzeugunterricht bei ihrem Vater Fred Harris ebenso wie bei ihrem Stiefvater Khalil Shaheed bekam.\nHarris ist zu vielseitig interessiert\, um sich nur auf ihre Rolle als improvisierende Musikerin festlegen zu lassen. Sie studierte ab 2015 neben Schlagzeug auch Journalismus an der Howard University in Washington. Vier Jahre später zog sie nach New York\, wo sie nicht nur ihr Schlagzeugstudium an der Manhattan School Of Music abschloss\, sondern sich auch sofort einen Namen als ästhetisch und stilistisch vielschichtige Schlagzeugerin machte\, die unter anderem mit Jason Moran\, Kenny Barron\, Geri Allen und Terrence Blanchard zusammenspielte. \nDoch auch hier gilt: das Terrain Jazz ist für die junge Künstlerin zu eng\, um all ihre kreativen Vorlieben unterbringen und ausleben zu können. Harris ist auch mit R&B-\, HipHop- und Soul-Acts wie Georgia Anne Muldrow\, Standing On The Corner oder José James zu hören\, zudem ist sie unter anderem Schlagzeugerin im Avantgarde-Jazz-Quartett Being & Becoming des Trompeters Peter Evans zu erleben. Als Komponistin schreibt sie die Musik für Filmemacher/-innen wie Alex Huggins und Elle Clay\, gleichzeitig ist Harris auch interdisziplinär mit Tänzer/-innen und Schauspieler/-innen auf der Bühne zu sehen. All ihre Einflüsse reflektiert sie mit ihrem zwischen freier Improvisation und tonaler Fixierung\, zwischen flirrendem Puls und konkreten Beat changierenden Modern Jazz\, den sie als Focus Artist der Cologne Jazzweek mit ihrem Trio mit Or Bareket (Bass) und Jeremy Corren (Piano) auf die Bühne bringt. \n\nhier geht es zum vollständigen Programm\n\nTickets: 20€ / 14€\nbuy in advance sale here\ntickets also available at the box office (if not sold out in advance)\nIn midsummer temperatures\, the concert hall is air-conditioned. \nThe LOFT opens approx. 45min prio to showtime.\nJeremy Corren – piano\nOr Bareket – bass\nSavannah Harris – drums \nSavannah Harris was born in 1993 and grew up in Oakland\, California\, where she also received her first drum lessons from her father Fred Harris as well as her stepfather Khalil Shaheed.\nHarris has too many interests to be confined to her role as an improvising musician. She studied journalism at Howard University in Washington starting in 2015\, in addition to drums. Four years later\, she moved to New York\, where she not only completed her percussion studies at the Manhattan School Of Music\, but also immediately made a name for herself as an aesthetically and stylistically complex drummer\, playing with Jason Moran\, Kenny Barron\, Geri Allen and Terrence Blanchard\, among others. \nBut again\, the terrain of jazz is too narrow for the young artist to accommodate and live out all her creative preferences. Harris can also be heard with R&B\, hip-hop and soul acts such as Georgia Anne Muldrow\, Standing On The Corner and José James\, and she also plays drums in trumpeter Peter Evans‘ avant-garde jazz quartet Being & Becoming. As a composer\, she writes the music for filmmakers such as Alex Huggins and Elle Clay\, while Harris also performs interdisciplinarily on stage with dancers and actors. She reflects all her influences with her modern jazz\, which oscillates between free improvisation and tonal fixation\, between shimmering pulse and concrete beat\, and which she brings to the stage as Focus Artist of Cologne Jazzweek with her trio featuring Or Bareket (bass) and Jeremy Corren (piano). \n\ncheck out the full program here\n\nCologne Jazzweek – gefördert von:\n                       \nÜbersicht der Sponsoren und Medienpartner auf\nhttps://jazzweek.de/
URL:https://www.loftkoeln.de/event/cologne-jazzweek-savannah-harris-trio/
END:VEVENT
END:VCALENDAR