BEGIN:VCALENDAR
VERSION:2.0
PRODID:-//www.loftkoeln.de - ECPv5.14.2.1//NONSGML v1.0//EN
CALSCALE:GREGORIAN
METHOD:PUBLISH
X-WR-CALNAME:www.loftkoeln.de
X-ORIGINAL-URL:https://www.loftkoeln.de
X-WR-CALDESC:Veranstaltungen für www.loftkoeln.de
BEGIN:VTIMEZONE
TZID:Europe/Berlin
BEGIN:DAYLIGHT
TZOFFSETFROM:+0100
TZOFFSETTO:+0200
TZNAME:CEST
DTSTART:20230326T010000
END:DAYLIGHT
BEGIN:STANDARD
TZOFFSETFROM:+0200
TZOFFSETTO:+0100
TZNAME:CET
DTSTART:20231029T010000
END:STANDARD
END:VTIMEZONE
BEGIN:VEVENT
DTSTART;TZID=Europe/Berlin:20230305T180000
DTEND;TZID=Europe/Berlin:20230305T180000
DTSTAMP:20260420T071142
CREATED:20230127T124850Z
LAST-MODIFIED:20230226T093454Z
UID:22826-1678039200-1678039200@www.loftkoeln.de
SUMMARY:Cologne Contemporary Jazz Orchestra feat. Ivo Neame | FUNCTIONING BRAINS
DESCRIPTION:Jan Schneider\, Christian Winninghoff\, Matthias Knoop\, Janos Löber – Trompeten\nPeter Schwadlo\, Andreas Schickentanz\, Ben Degen\, Wolf Schenk – Posaunen\nMarko Lackner\, Kristina Brodersen\, Mathew Halpin\, Francois de Ribaupierre – Saxophone\nJohannes Behr – Gitarre\nIvo Neame – Piano\, Komposition & Arrangement\nVolker Heinze – Bass\nJens Düppe – Schlagzeug \n\n\n(english: see below) \nInformationen zu den Preisen\, Karten-Reservierungen und den Öffnungszeiten finden Sie hier.\n\n© Maya Sapone\nDas Cologne Contemporary Jazz Orchestra (CCJO)\, im vergangenen Herbst stolze 20 Jahre alt geworden\, im Februar 2023 wurde das mit der Sängerin Veronika Morscher und dem Komponisten & Arrangeur Heiner Schmitz entstandene Album Tales From The Wooden Kingdom für den Deutschen Jazzpreis 2023 in der Kategorie Album Vokal des Jahres nominiert. Von nun an wird das CCJO regelmässig im LOFT zu hören sein und begeht seine Premiere gleich mit einem echten Highlight: der britische Pianist und Komponist Ivo Neame ist als erster Artist in Residence des Orchesters zu Gast in Köln. \nIvo Neame ist vor allem durch seine Band Phronesis bekannt geworden\, mit der er weltweit auf grossen Festivals unterwegs ist\, ebenso wie mit dem Marius Neset Quartet\, Hermeto Pascoal\, Gilad Hekselman und anderen. Er hat Musik für grosse Ensembles wie die London Sinfonietta komponiert und wurde mit zahlreichen Preisen ausgezeichnet. \nIvos Musik kombiniert die improvisatorische Flexibilität kleiner Besetzungen mit der Kraft und den Klangmöglichkeiten eines grossen Ensembles\, sie lotet das gesamte Spannungsfeld von Improvisation und Komposition aus. Dabei ist sie häufig rhythmisch komplex\, ohne die Wurzeln im Jazz und angrenzenden Stilen zu kappen. \nIn seinem neuen Artist in Residence-Programm wird das CCJO künftig in jedem Jahr einen besonderen musikalischen Gast vorstellen und mit diesem eng zusammen arbeiten. Zunächst wird es im ersten Halbjahr ein Konzert zum gegenseitigen Kennenlernen geben\, bevor der/die Artist in Residence dem Cologne Contemporary Jazz Orchestra dann für die zweite Jahreshälfte ein Programm auf den Leib schreibt\, welches bei zwei Konzerten in NRW präsentiert wird. \nwww.ccjo.koeln \nwww.ivoneame.com \n\nGefördert von:\n \n\nJan Schneider\, Christian Winninghoff\, Matthias Knoop\, Janos Löber – trumpets\nPeter Schwadlo\, Andreas Schickentanz\, Ben Degen\, Wolf Schenk – trombones\nMarko Lackner\, Kristina Brodersen\, Mathew Halpin\, Francois de Ribaupierre – saxophones\nJohannes Behr – guitar\nIvo Neame – piano\, composition & arrangement\nVolker Heinze – bass\nJens Düppe – drums \nInformation about prices\, ticket reservations and our opening times can be found here. \nThe Cologne Contemporary Jazz Orchestra (CCJO)\, last fall proudly turned 20 years old\, in February 2023 the album Tales From The Wooden Kingdom\, created with singer Veronika Morscher and composer & arranger Heiner Schmitz\, was nominated for the German Jazz Award 2023 in the category Album Vocal of the Year. From now on\, the CCJO will be heard regularly at the LOFT and will celebrate its premiere with a real highlight: the British pianist and composer Ivo Neame will be the orchestra’s first artist in residence in Cologne. \nIvo Neame is best known for his band Phronesis\, with whom he tours worldwide at major festivals\, as well as with the Marius Neset Quartet\, Hermeto Pascoal\, Gilad Hekselman and others. He has composed music for large ensembles such as the London Sinfonietta and has won numerous awards. \nIvo’s music combines the improvisational flexibility of small ensembles with the power and sonic possibilities of a large ensemble\, exploring the full range of improvisation and composition. In doing so\, it is often rhythmically complex without cutting its roots in jazz and adjacent styles. \nIn its new Artist in Residence program\, the CCJO will in the future present and work closely with a special musical guest each year. In the first half of the year\, there will be a concert to get to know each other\, before the artist in residence writes a program for the Cologne Contemporary Jazz Orchestra for the second half of the year\, which will be presented at two concerts in NRW.
URL:https://www.loftkoeln.de/event/cologne-contemporary-jazz-orchestra-feat-ivo-neame/
END:VEVENT
END:VCALENDAR