BEGIN:VCALENDAR
VERSION:2.0
PRODID:-//www.loftkoeln.de - ECPv5.14.2.1//NONSGML v1.0//EN
CALSCALE:GREGORIAN
METHOD:PUBLISH
X-WR-CALNAME:www.loftkoeln.de
X-ORIGINAL-URL:https://www.loftkoeln.de
X-WR-CALDESC:Veranstaltungen für www.loftkoeln.de
BEGIN:VTIMEZONE
TZID:UTC
BEGIN:STANDARD
TZOFFSETFROM:+0000
TZOFFSETTO:+0000
TZNAME:UTC
DTSTART:20050101T000000
END:STANDARD
END:VTIMEZONE
BEGIN:VEVENT
DTSTART;TZID=UTC:20051215T203000
DTEND;TZID=UTC:20051215T203000
DTSTAMP:20260424T153253
CREATED:20210128T090820Z
LAST-MODIFIED:20210128T090820Z
UID:16197-1134678600-1134678600@www.loftkoeln.de
SUMMARY:Christopher Dell: D.R.A.
DESCRIPTION:Christopher Dell – Vibraphon\nChristian Ramond – Bas\nFelix Astor – Drums \n\nDRA spielt Diskurs-Jazz.\nDRA kombiniert Komplexität mit Spiel.\nDRA besteht seit 1998.\nDRA wird 2002 mit dem JazzArtAward ausgezeichnet.\nDRA spielt akustisch.\nDRA = dynamic-related-action = keiner von DRA ist austauschbar.\nDRA begeistert:\n„Voller Dichte und Wahrheit.” Hans- Jürgen Linke\, Frankfurter Rundschau \n„Eine Prozesskunst\, wie es sie noch nicht gegeben hat.“\nUli Olshausen\, Frankfurter Allgemeine Zeitung \n„Full of ideas and mastery“\nDjango Bates \n„Drive with power and speed“\nJim Santella\, Cadence\, U.S.A \n„… strong players\, constantly intriguing\,…“\nJon Andrews\, Downbeat\, U.S.A. \nVon DRA erschienen bisher 2 CDs: “future of the smallest form” (2001) und “DraReal” (2004). \n2006 wird die neue CD “truth study” publiziert.
URL:https://www.loftkoeln.de/event/christopher-dell-d-r-a/
END:VEVENT
END:VCALENDAR