BEGIN:VCALENDAR
VERSION:2.0
PRODID:-//www.loftkoeln.de - ECPv5.14.2.1//NONSGML v1.0//EN
CALSCALE:GREGORIAN
METHOD:PUBLISH
X-WR-CALNAME:www.loftkoeln.de
X-ORIGINAL-URL:https://www.loftkoeln.de
X-WR-CALDESC:Veranstaltungen für www.loftkoeln.de
BEGIN:VTIMEZONE
TZID:UTC
BEGIN:STANDARD
TZOFFSETFROM:+0000
TZOFFSETTO:+0000
TZNAME:UTC
DTSTART:20100101T000000
END:STANDARD
END:VTIMEZONE
BEGIN:VEVENT
DTSTART;TZID=UTC:20100317T203000
DTEND;TZID=UTC:20100317T203000
DTSTAMP:20260422T182323
CREATED:20171027T091352Z
LAST-MODIFIED:20171027T091352Z
UID:6153-1268857800-1268857800@www.loftkoeln.de
SUMMARY:Christoph Stiefel Inner Language Trio: CD-Präsentation "Fortuna’s Smile"
DESCRIPTION:Christoph Stiefel – piano\nThomas Lähns – bass\nMarcel Papaux – drums \n\nZwischen Präzision und Entfesselung – Inspiriert von einer Kompositionstechnik \naus dem Mittelalter – Isorhythmik\, befasst sich Christoph Stiefel seit anderthalb Jahrzehnten intensiv mit der Verschiebung und Überlagerung rhythmischer Muster\, und hat damit seinen eigenen\, sehr persönlichen kompositorischen und pianistischen Stil entwickelt. Dieses eigenständige rhythmische Konzept ergibt  im Gespann mit einem heutigen\, modernen Jazz-Piano-Trio Sound eine faszinierende sinnliche Sogwirkung – das tranceartige rhythmische Ostinato produziert unwiderstehliche rhythmische Energie\, Instrospektion und Expressionismus halten sich auf überzeugende Weise die Waage. \nDas Trio wurde von der deutschen Zeitschrift Stereoplay ausgewählt als eine der zukünftigen Klavier-Trio Klassiker( zusammen mit Bobo Stenson\, John Taylor\, E.S.T u.a.)\, von der deutschen Zeitschrift Stereo als bestes Klavier-Trio der Schweiz bezeichnet und von der schweizerischen Kulturstiftung Pro Helvetia in ihre Prioritäre Jazzförderung ausgewählter Schweizer Bands aufgenommen… \nwww.christophstiefel.ch \nwww.myspace.com/christophstiefeltrio
URL:https://www.loftkoeln.de/event/christoph-stiefel-inner-language-trio-cd-prasentation-fortuna%e2%80%99s-smile/
END:VEVENT
END:VCALENDAR