BEGIN:VCALENDAR
VERSION:2.0
PRODID:-//www.loftkoeln.de - ECPv5.14.2.1//NONSGML v1.0//EN
CALSCALE:GREGORIAN
METHOD:PUBLISH
X-WR-CALNAME:www.loftkoeln.de
X-ORIGINAL-URL:https://www.loftkoeln.de
X-WR-CALDESC:Veranstaltungen für www.loftkoeln.de
BEGIN:VTIMEZONE
TZID:Europe/Berlin
BEGIN:DAYLIGHT
TZOFFSETFROM:+0100
TZOFFSETTO:+0200
TZNAME:CEST
DTSTART:20220327T010000
END:DAYLIGHT
BEGIN:STANDARD
TZOFFSETFROM:+0200
TZOFFSETTO:+0100
TZNAME:CET
DTSTART:20221030T010000
END:STANDARD
END:VTIMEZONE
BEGIN:VEVENT
DTSTART;TZID=Europe/Berlin:20220513T203000
DTEND;TZID=Europe/Berlin:20220513T203000
DTSTAMP:20260424T122045
CREATED:20220401T085703Z
LAST-MODIFIED:20220512T053337Z
UID:19979-1652473800-1652473800@www.loftkoeln.de
SUMMARY:Christian Pabst – Balbec | CD-Release
DESCRIPTION:Christian Pabst – Piano & Rhodes \nAndré Nendza – Bass & E-Bass\nErik Kooger – Schlagzeug\n\n(english: see below) \nInformationen zu Konzerten während der Corona-Pandemie finden Sie hier\, Informationen zu den Preisen\, Karten-Reservierungen und den Öffnungszeiten finden Sie hier.\n@ Patrycja Rozwora\nDer in Italien lebende deutsche Pianist und Komponist Christian Pabst präsentiert sein neustes Projekt Balbec (LOFT-recording August 2020). \nBalbec ist der Name einer imaginären Küstenstadt\, die in dem monumentalen Buch Auf der Suche nach der verlorenen Zeit von Marcel Proust zu finden ist.\nWährend dem ersten Lockdown hat sich Pabst in das Werk vertieft und musikalische Inspiration gefunden. Der Protagonist des Buches verbringt die Sommer seiner Jugend in Balbec\, wo er über unsere Wahrnehmung von Zeit nachdenkt. Ein Thema\, das Pabst\, der als Künstler wie viele andere eine Periode des Stillstands erlebt hatte\, sehr inspirierte. Das Ergebnis ist ein mitreißendes Program voller beeindruckenden Kompositionen und leidenschaftlichen Improvisationen. Zusammen mit dem Jazz Echo – Preisträger André Nendza am Bass sowie dem niederländischen Schlagzeuger Erik Kooger entdeckt Pabst neue musikalische Horizonte. Umrahmt vom hoffnungsvollen Esprit der energiegeladenen Songs entsteht eine phantasievolle Geschichte die eine breite Palette erfüllender Emotionen hervorruft.\nAll About Jazz nennt die akustischen Kreationen des Pianisten “eine Hingabe an die Schönheit der Musik”. Auf Balbec präsentiert Christian Pabst eine beeindruckende Beherrschung seines Instruments\, eine melodische Sensibilität und rhythmische Feuerwerke\, wodurch man mit ihm und seinen Kollegen sofort zu einem dieser geheimen imaginären Orte reisen möchte. \nhttps://www.christianpabst.com/ \n“Sieben Titel voller Klangästhetik\, lyrischer Stimmungen und aufregender Improvisationen. Mit den überlieferten Pianotrio-Regeln und den Parametern des klassischen Jazz hat die daraus resultierende cinematische Klangwelt nur noch am Rande etwas zu tun.”\nJazzthing \n”Erfrischend anders”\nJazzthetik \n”Pabst kreiert eine Welt der subtilen Klänge”\nJazzpodium \nChristian Pabst ist auf den großen Bühnen anzutreffen (u.a. Lincoln Center New York\, Concertgebouw Amsterdam\, North Sea Jazz Festival\, Bimhuis\, etc.) und tourt regelmäßig um die ganze Welt – sowohl in Europa als auch in den USA\, Südafrika\, Indien\, Neuseeland\, Australien\, Türkei\, etc.\nEr studierte im Rahmen des European Jazz Masters Klavier an den Konservatorien von Amsterdam\, Paris und Kopenhagen. Im Anschluss folgte ein Studium der Filmmusik in Amsterdam.\nEr war Pianist des Bundesjazzorchester und hat mit seinem preisgekrönten Klaviertrio zahlreiche Erfolge gefeiert. 2011 veröffentlichte er sein Debut Days of Infinity (feat. Gerard Presencer)\, gefolgt von Song of Opposites in großer Besetzung mit Streichern und Bläsern und dem von der internationalen Presse gelobten Trio Album Inner Voice.\nDer Downbeat-Autor Scott Yanow beschrieb Christian Pabst’s Klavierspiel als “verbunden mit den Großen des Jazz\, zugleich originell und persönlich.”\nNeben seiner solistischen Tätigkeit ist Pabst ein begehrter Begleiter und hat sich auch durch seine Zusammenarbeit mit Künstlern wie Lionel Loueke\, James Cammack\, Lubos Soukup\, etc. einen Namen gemacht.\nAls Arrangeur hat er u.a. für die ARD und das WDR Funkhausorchester gearbeitet. Seit 2010 ist Christian Pabst Dozent am Conservatorium van Amsterdam und seit 2019 an der Hochschule für Musik Saar. \n\n\nChristian Pabst – piano & rhodes\nAndré Nendza – bass & e-Bass\nErik Kooger – drums \nPlease read our infos concerning concerts with an audience during the Corona pandemic here. Information about prices\, ticket reservations and our opening times can be found here. \nThe German pianist and composer Christian Pabst – currently residing in Italy – presents his latest project Balbec. \nBalbec is the name of an imaginary coastal town found in the monumental book In Search of Lost Time by Marcel Proust.\nDuring the first Lockdown\, Pabst immersed himself in the work and found musical inspiration. The protagonist of the book spends the summers of his youth in Balbec\, where he reflects on our perception of time. A theme that greatly inspired Pabst\, who as an artist\, like many others\, had experienced a period of standstill. The result is a rousing programme full of impressive compositions and passionate improvisations. Together with Jazz Echo award winner André Nendza on bass and Dutch drummer Erik Kooger\, Pabst discovers new musical horizons. Framed by the hopeful esprit of the energetic songs\, an imaginative story emerges that evokes a wide range of fulfilling emotions.\nAll About Jazz calls the pianist’s acoustic creations „an homage to the beauty of music“. On Balbec\, Christian Pabst presents an impressive mastery of his instrument\, a melodic sensibility and rhythmic fireworks\, making you want to travel with him and his colleagues immediately to one of those secret imaginary places. \nhttps://www.christianpabst.com/ \n„Seven tracks full of sound aesthetics\, lyrical moods and exciting improvisations. The resulting cinematic soundscape has only marginally anything to do with the traditional piano trio rules and parameters of classical jazz.“\nJazzthing \n„Refreshingly different“\nJazzthetik \n„Pabst creates a world of subtle sounds“\nJazzpodium \nChristian Pabst can be found on the big stages (including Lincoln Center New York\, Concertgebouw Amsterdam\, North Sea Jazz Festival\, Bimhuis\, etc.) and tours regularly around the world – in Europe as well as in the USA\, South Africa\, India\, New Zealand\, Australia\, Turkey\, etc.\nHe studied piano as part of the European Jazz Masters at the conservatories of Amsterdam\, Paris and Copenhagen. This was followed by studies in film music in Amsterdam.\nHe was pianist of the Bundesjazzorchester and has celebrated numerous successes with his award-winning piano trio. In 2011\, he released his debut Days of Infinity (feat. Gerard Presencer)\, followed by Song of Opposites in large instrumentation with strings and winds and the trio album Inner Voice\, which was praised by the international press.\nDownbeat writer Scott Yanow described Christian Pabst’s piano playing as „connected to the greats of jazz\, at once original and personal.“\nIn addition to his solo work\, Pabst is a sought-after accompanist and has also made a name for himself through his collaborations with artists such as Lionel Loueke\, James Cammack\, Lubos Soukup\, etc.\nAs an arranger\, he has worked for ARD and the WDR Funkhausorchester\, among others. Christian Pabst has been a lecturer at the Conservatorium van Amsterdam since 2010 and at the Hochschule für Musik Saar since 2019.
URL:https://www.loftkoeln.de/event/christian-pabst-balbec-cd-release/
END:VEVENT
END:VCALENDAR