BEGIN:VCALENDAR
VERSION:2.0
PRODID:-//www.loftkoeln.de - ECPv5.14.2.1//NONSGML v1.0//EN
CALSCALE:GREGORIAN
METHOD:PUBLISH
X-WR-CALNAME:www.loftkoeln.de
X-ORIGINAL-URL:https://www.loftkoeln.de
X-WR-CALDESC:Veranstaltungen für www.loftkoeln.de
BEGIN:VTIMEZONE
TZID:UTC
BEGIN:STANDARD
TZOFFSETFROM:+0000
TZOFFSETTO:+0000
TZNAME:UTC
DTSTART:20100101T000000
END:STANDARD
END:VTIMEZONE
BEGIN:VEVENT
DTSTART;TZID=UTC:20100314T203000
DTEND;TZID=UTC:20100314T203000
DTSTAMP:20260422T213626
CREATED:20171027T091538Z
LAST-MODIFIED:20171027T091538Z
UID:6155-1268598600-1268598600@www.loftkoeln.de
SUMMARY:Chisholm - Nabatov - Burgwinkel
DESCRIPTION:Hayden Chisholm – sax.\nSimon Nabatov – piano\nJonas Burgwinkel – drums \n\nEin Abend so ganz nach dem Geschmack des Loft Publikums: 3 Meister ihres Fachs spielen Musik aus Brasilien und Kompositionen von Hayden Chisholm. Das Trio ist in dieser Besetzung noch nicht aufgetreten\, so erwartet die Zuhörer wieder einmal eine aufregende Premiere mit 3 Musikern aus Neuseeland\, Russland und Deutschland\, die\, zum Glück für Köln und seine Jazzszene\, jetzt alle hier in Köln beheimatet sind.
URL:https://www.loftkoeln.de/event/chisholm-nabatov-burgwinkel/
END:VEVENT
END:VCALENDAR