BEGIN:VCALENDAR
VERSION:2.0
PRODID:-//www.loftkoeln.de - ECPv5.14.2.1//NONSGML v1.0//EN
CALSCALE:GREGORIAN
METHOD:PUBLISH
X-WR-CALNAME:www.loftkoeln.de
X-ORIGINAL-URL:https://www.loftkoeln.de
X-WR-CALDESC:Veranstaltungen für www.loftkoeln.de
BEGIN:VTIMEZONE
TZID:UTC
BEGIN:STANDARD
TZOFFSETFROM:+0000
TZOFFSETTO:+0000
TZNAME:UTC
DTSTART:20200101T000000
END:STANDARD
END:VTIMEZONE
BEGIN:VEVENT
DTSTART;TZID=UTC:20201127T210000
DTEND;TZID=UTC:20201127T210000
DTSTAMP:20260422T125422
CREATED:20201004T103517Z
LAST-MODIFIED:20201126T082627Z
UID:15467-1606510800-1606510800@www.loftkoeln.de
SUMMARY:Livestream aus dem LOFT: Caspar van Meel Quintett // CD-Präsentation "On the edge"
DESCRIPTION:Denis Gäbel – Saxophon\nTobias Wember – Posaune\nRoman Babik – Piano\nCaspar van Meel – Bass\nNiklas Walter – Schlagzeug \n\nenglish version: see below \ndirekt zum livestream \nSie sehen diesen livestream kostenlos über Youtube\, wir freuen uns natürlich sehr\, wenn Sie den Musiker*innen einen „Eintritt“ zu diesem Konzert zukommen lassen\, entweder über PayPal:\nhttp://paypal.me/casparvanmeelquintet \nOder per direkter Überweisung:\n…Details am Konzertabend hier \nzum LOFT-YouTube-Kanal \nProduktion: Dr. Urs Benedikt Müller & Hans Martin Müller\nTon: Christian Heck\nRegie: Tobias Haucke\nDank an: Mischa Salevic \n\nPhoto by Sascha Kraus\nDer Titel On the Edge vom neuen Album des Caspar van Meel Quintets ist kein Zufall – hier ist eine Gruppe die sich traut Risiken einzugehen und sich gegenseitig inspiriert neue musikalische Räumen zu erforschen. Swingen in bester Hardbop-Tradition\, afrikanische Beats\, krumme Taktarten und dabei grooven wie eine Funkband – das Caspar van Meel Quintet spielt modernen Jazz mit jeder Menge Energie. „Ich möchte Stücke schreiben\, die beides sind: intellektuell anregend und emotional bewegend“\, sagt Caspar van Meel\, Bandleader\, Komponist und Bassist der Gruppe\, über seine Musik. \nDie Kompositionen entwickeln sich organisch aus mehreren Formteilen\, bringen klare Melodien mit mehrstimmigen Bläsersätzen zusammen – und bieten dabei ausreichend Platz für wiederkehrende Basslinien\, kollektive Improvisationen und ausgedehnte Soli der einzelnen Instrumente. Van Meel lässt sich inspirieren von legendären Bassisten wie Charles Mingus und Dave Holland: Musiker die nicht nur Meister sind auf deren Instrumenten sondern auch Bandleader mit einer eigenen kompositorische Sprache. John Goldsby\, Bassist der WDR Big Band\, über van Meel: „Seine Musik ist in der Jazztradition verwurzelt\, aber er spielt mit einem Ohr an der Zukunft.“ \nAlle Musiker auf dieser CD sind hervorragende Instrumentalisten und bekannte Namen in der Deutsche Szene\, aber vor allem formen sie eine Band. Die Musiker vereint ein starkes Gefühl für Time\, Feel und Respekt für die Tradition\, aber jeder bringt seine individuelle Form von Wahnsinn ein. Die Gruppe hat intensiv live gespielt und eine eigene Interpretation und Spielart entwickelt bevor die Musik von Christian Heck im legendären Kölner LOFT aufgenommen und gemischt wurde. Schließlich war es das mastering des New Yorker Klang-Zauberers und Schlagzeugers Nate Wood\, der den Sound im Studio zusammen gebracht hat. \nDer Titel ‚On the Edge’ reflektiert einerseits das Ziel dieser Gruppe und der einzelnen Musiker sich künstlerisch weiter zu entwickeln und Grenzen zu verschieben. Andererseits ist es ein Kommentar auf unsere Zeit als Schnittstelle zwischen zwei Zeitaltern. Die neuesten Krisen konfrontieren uns in zunehmendem Maße mit den politischen\, sozialen und ökologischen Schwächen unserer Gesellschaft. Wir stehen auf eine Grenze. In welche Richtung wollen wir gehen? \nwww.casparvanmeel.com \n\nDenis Gäbel – saxophone\nTobias Wember – trombone\nRoman Babik – piano\nCaspar van Meel – bass\nNiklas Walter – drums \nProduction details: see above \ntake me directly to the livestream \nYou can watch this livestream for free on YouTube\, we are of course very happy if you pay the musicians an „entry“ to this concert\, either via PayPal:\nhttp://paypal.me/casparvanmeelquintet \nOr directly via Bank transfer:\n…details on the evening of the 27th of November here \nto the LOFT-YouTube channel
URL:https://www.loftkoeln.de/event/caspar-van-meel-quintett-cd-praesentation-on-the-edge/
END:VEVENT
END:VCALENDAR