BEGIN:VCALENDAR
VERSION:2.0
PRODID:-//www.loftkoeln.de - ECPv5.14.2.1//NONSGML v1.0//EN
CALSCALE:GREGORIAN
METHOD:PUBLISH
X-WR-CALNAME:www.loftkoeln.de
X-ORIGINAL-URL:https://www.loftkoeln.de
X-WR-CALDESC:Veranstaltungen für www.loftkoeln.de
BEGIN:VTIMEZONE
TZID:UTC
BEGIN:STANDARD
TZOFFSETFROM:+0000
TZOFFSETTO:+0000
TZNAME:UTC
DTSTART:20090101T000000
END:STANDARD
END:VTIMEZONE
BEGIN:VEVENT
DTSTART;TZID=UTC:20091005T203000
DTEND;TZID=UTC:20091005T203000
DTSTAMP:20260423T124232
CREATED:20171102T143007Z
LAST-MODIFIED:20171102T143007Z
UID:6290-1254774600-1254774600@www.loftkoeln.de
SUMMARY:Carlos Bica's Azul
DESCRIPTION:Frank Möbus – guit.\nCarlos Bicas – bass\nJim Black – drums \n\nDer Kontrabassist und Komponist Carlos Bica zählt zu den profiliertesten und innovativsten Klangkünstlern aus Portugal\, wo er 1998 zum Jazzmusiker des Jahres gewählt wurde. Auch hierzulande weiß man seine Fähigkeiten wohl zu schätzen: „Der erste wirkliche Jazzstar des neuen Jahrzehnts“ (FAZ). „Ein Virtuose allererster Güte“ (Tip). International bekannt wurde Bica durch seine Arbeit u. a. mit Maria Joao\, Kenny Wheeler\, Ray Anderson\, Aki Takase und Paolo Fresu. Sein Debütalbum „Azul“ wurde 1996 in Portugal als Jazzplatte des Jahres gekürt. Die Nachfolgealben wie „Twist“ – „Ein Meisterwerk“ (Jazz Podium)\, „CD des Monats“ (Stereo)\, „Könnte Kultstatus erringen“ (Fono Forum) -\, oder „Believer“\, aber auch Bicas 2005 veröffentlichtes Soloalbum „Single“ waren nicht minder erfolgreich. Carlos Bicas Spiel fasziniert immer wieder ob seines diskantreichen\, singenden Basses\, eine unverwechselbare Klang- und Spielcharakteristik\, sein kraftvolles\, differenziertes Spiel. Mit Frank Möbus\, einem der führenden Gitarristen Europas und Leader der Formation „Der Rote Bereich“\, sowie Jim Black\, seit Jahren einer der kreativsten und meistbeschäftigten Schlagzeuger der New Yorker Downtown-Szene\, schafft Bica eine fröhlich-freche\, undomestizierte Musik\, eine eigenwillige Mischung aus ironischem Gitarrenrock\, raffiniertem Jazz und verwandelten Folk-Elementen portugiesischen\, sephardischen\, nordafrikanischen Ursprungs. Südländische Leichtigkeit mit einem Touch Downtown-Hipness und einem lustvollen Rock-Twist: So könnte man die Musik von Azul auch beschreiben. Eine der frischesten Brisen\, die derzeit über die Szene blasen.
URL:https://www.loftkoeln.de/event/carlos-bicas-azul/
END:VEVENT
END:VCALENDAR