BEGIN:VCALENDAR
VERSION:2.0
PRODID:-//www.loftkoeln.de - ECPv5.14.2.1//NONSGML v1.0//EN
CALSCALE:GREGORIAN
METHOD:PUBLISH
X-WR-CALNAME:www.loftkoeln.de
X-ORIGINAL-URL:https://www.loftkoeln.de
X-WR-CALDESC:Veranstaltungen für www.loftkoeln.de
BEGIN:VTIMEZONE
TZID:UTC
BEGIN:STANDARD
TZOFFSETFROM:+0000
TZOFFSETTO:+0000
TZNAME:UTC
DTSTART:20050101T000000
END:STANDARD
END:VTIMEZONE
BEGIN:VEVENT
DTSTART;TZID=UTC:20050525T203000
DTEND;TZID=UTC:20050525T203000
DTSTAMP:20260423T080948
CREATED:20200422T091219Z
LAST-MODIFIED:20200422T091219Z
UID:14420-1117053000-1117053000@www.loftkoeln.de
SUMMARY:Carlos Bica’s Azul feat. Frank Möbus & Jim Black
DESCRIPTION:Frank Möbus – Gitarre\nCarlos Bica – bass\nJim Black – drums \n\nDer Kontrabassist und Komponist Carlos Bica zählt zu den profiliertesten und innovativsten Klangkünstlern aus Portugal. Er war Portugals Jazz Musiker des Jahres und sein Debütalbum „Azul“ (Universal) wurde zur Jazz Platte des Jahres des Jahres gewählt. In Gemeinschaft mit dem Berliner Gitarristen Frank Möbus\, der mit seiner Band „Der rote Bereich“ selbst Akzente im hauptstädtischen Jazz-Boom gesetzt hat\, und dem New Yorker Schlagzeuger Jim Black\, der seit Jahren einer der kreativsten und meistbeschäftigsten Schlagzeuger der Downtown-Szene\, beschreibt Bica mehr als nur ein vages Triangel Lissabon-Berlin-New York. Mittlerweile hat das Trio bei ENJA Records sein drittes Album vorgelegt. Das Titelstück\, eine Bearbeitung von Melanies Hippie-Hymne „Look what they’ve tone to my song“\, bringt die stilistische Grenzgängerei auf den Punkt: von Flower Power durch Bicas lyrische portugiesische Ader hindurch und hinein in den Jazz-Beat. Südländische Leichtigkeit mit einem Touch Downtown-Hipness und einem lustvollen Rock-Twist: So könnte man die Musik von Azul auch beschreiben. Eine der frischesten Brisen\, die derzeit über die Szene blasen. \n„Südländische Leichtigkeit. Hochenergetische Dichte\, humorige Verspielheit\, dramatische Schwere – all das fügt sich zu einer anregenden Palette von Blautönen“. (Jazzthetik) \n„Die Musik ist heiterer und leidenschaftlicher Teamgeist\, wie ein impressionistisches Gemälde\, in dem Meer und Himmel\, Blues und Sehnsucht sich vereinen.“ (Diário de Notícias)
URL:https://www.loftkoeln.de/event/carlos-bicas-azul-feat-frank-moebus-jim-black/
END:VEVENT
END:VCALENDAR