BEGIN:VCALENDAR
VERSION:2.0
PRODID:-//www.loftkoeln.de - ECPv5.14.2.1//NONSGML v1.0//EN
CALSCALE:GREGORIAN
METHOD:PUBLISH
X-WR-CALNAME:www.loftkoeln.de
X-ORIGINAL-URL:https://www.loftkoeln.de
X-WR-CALDESC:Veranstaltungen für www.loftkoeln.de
BEGIN:VTIMEZONE
TZID:UTC
BEGIN:STANDARD
TZOFFSETFROM:+0000
TZOFFSETTO:+0000
TZNAME:UTC
DTSTART:20080101T000000
END:STANDARD
END:VTIMEZONE
BEGIN:VEVENT
DTSTART;TZID=UTC:20080604T203000
DTEND;TZID=UTC:20080604T203000
DTSTAMP:20260420T131918
CREATED:20180820T122822Z
LAST-MODIFIED:20180821T140319Z
UID:9123-1212611400-1212611400@www.loftkoeln.de
SUMMARY:Carl Ludiwig Hübsch's Primordial Soup
DESCRIPTION:Axel Dörner – trp.\nFrank Gratkowski – cl.\,bscl. sax.\nMichael Griener – drums\, perc.\nCarl Ludwig Hübsch – tuba\, composition \n\nDer Begriff „Primordiale Suppe“ beschreibt für Astrophysiker den Zustand unsres Universums nur einen Sekundenbruchteil nach dem Urknall. Alle Elemente lagen hier bereits vor\, allerdings ungeformt\, nur in ihren Bestandteilen. Aus diesem kosmischen Fluid heraus entwickelte sich die Form aller Elemente. Das Komponieren von Stücken\, die von „Improvisierern“ gespielt werden sollen\, bedeutet Strukturen und Formen anzulegen\, die möglichst viel Raum für Entwicklung ermöglichen. Das Hervorrufen des Unplanbaren ist Kern aller sorgsam geschmiedeten Pläne. \nAlle Musiker dieses Quartetts sind als Improvisierer und Interpreten bekannt. Als Individualisten und im Kollektiv haben sie ihre eigenen Sprachen entwickelt. Ihre spezifischen Möglichkeiten als Instrumentalisten und als Spieler bilden den Rahmen für diese Musik\, die „blasmusikantisch“ Elemente des Jazz und der Neuen Musik vereint.
URL:https://www.loftkoeln.de/event/carl-ludiwig-huebschs-primordial-soup/
END:VEVENT
END:VCALENDAR